BEGIN:VCALENDAR
VERSION:2.0
PRODID:-//wp-events-plugin.com//7.2.3.1//EN
TZID:Europe/Warsaw
X-WR-TIMEZONE:Europe/Warsaw
BEGIN:VEVENT
UID:16145@night4u.pl
DTSTART;TZID=Europe/Warsaw:20190516T210000
DTEND;TZID=Europe/Warsaw:20190517T040000
DTSTAMP:20190514T213736Z
URL:https://night4u.pl/wydarzenia/before_party_awfalia_czwartek/
SUMMARY:Before_Party_AWFalia_CZWARTEK
DESCRIPTION:Czas na beforek przed największą impreza studencka AWFalia kt
 ora juz tuz tuz.
ATTACH;FMTTYPE=image/jpeg:https://night4u.pl/wp-content/uploads/2019/05/39
 569_image_60141537_2319143378137001_6633011745206042624_o.jpg
CATEGORIES:lubelskie
LOCATION:Klub Gramofon\, Biała Podlaska\, Poland
GEO:52.03268;23.120489
X-APPLE-STRUCTURED-LOCATION;VALUE=URI;X-ADDRESS=Biała Podlaska\, Poland;X-
 APPLE-RADIUS=100;X-TITLE=Klub Gramofon:geo:52.03268,23.120489
END:VEVENT
BEGIN:VTIMEZONE
TZID:Europe/Warsaw
X-LIC-LOCATION:Europe/Warsaw
BEGIN:DAYLIGHT
DTSTART:20190331T030000
TZOFFSETFROM:+0100
TZOFFSETTO:+0200
TZNAME:CEST
END:DAYLIGHT
END:VTIMEZONE
END:VCALENDAR