BEGIN:VCALENDAR
VERSION:2.0
PRODID:-//wp-events-plugin.com//7.2.3.1//EN
TZID:Europe/Warsaw
X-WR-TIMEZONE:Europe/Warsaw
BEGIN:VEVENT
UID:33103@night4u.pl
DTSTART;TZID=Europe/Warsaw:20191026T210000
DTEND;TZID=Europe/Warsaw:20191027T040000
DTSTAMP:20191026T091839Z
URL:https://night4u.pl/wydarzenia/beka-ksh-%e2%98%86-genesis-club-zlotow-%
 e2%98%86/
SUMMARY:BEKA KSH ☆ Genesis Club Złotów ☆
DESCRIPTION:👉 Kolejny weekend i kolejna\, koncertowa impreza w Genesis Z
 łotów! Po raz pierwszy w okolicy\, na naszej scenie pojawi się BEKA KSH
  ‼ \nJuż 26 października  usłyszymy "JESTEM MARYNARZEM"  oraz inne hi
 ciory spod szyldu KSH.\n\n✔Imprezę nakręca DJ BOLEK\n\n✔Rezerwacja l
 óż: 725 743 566\n\n✔Bilety:\nDo godz. 21:15 - 10 zł\, \nPo godz. 21:1
 5 - 15 zł\, \nPo godz. 22:00 - 20 zł
ATTACH;FMTTYPE=image/jpeg:https://night4u.pl/wp-content/uploads/2019/10/81
 558_image_72848277_2555711414485060_3616489134702460928_n.jpg
CATEGORIES:wielkopolskie
LOCATION:Genesis Złotów\, Za Dworcem 10\, Złotow\, 77-400\, Poland
GEO:53.35469;17.05598
X-APPLE-STRUCTURED-LOCATION;VALUE=URI;X-ADDRESS=Za Dworcem 10\, Złotow\, 7
 7-400\, Poland;X-APPLE-RADIUS=100;X-TITLE=Genesis Złotów:geo:53.35469,17
 .05598
END:VEVENT
BEGIN:VTIMEZONE
TZID:Europe/Warsaw
X-LIC-LOCATION:Europe/Warsaw
BEGIN:DAYLIGHT
DTSTART:20190331T030000
TZOFFSETFROM:+0100
TZOFFSETTO:+0200
TZNAME:CEST
END:DAYLIGHT
BEGIN:STANDARD
DTSTART:20191027T020000
TZOFFSETFROM:+0200
TZOFFSETTO:+0100
TZNAME:CET
END:STANDARD
END:VTIMEZONE
END:VCALENDAR