BEGIN:VCALENDAR
VERSION:2.0
PRODID:-//wp-events-plugin.com//7.2.3.1//EN
TZID:Europe/Warsaw
X-WR-TIMEZONE:Europe/Warsaw
BEGIN:VEVENT
UID:24707@night4u.pl
DTSTART;TZID=Europe/Warsaw:20190817T200000
DTEND;TZID=Europe/Warsaw:20190818T050000
DTSTAMP:20190815T221018Z
URL:https://night4u.pl/wydarzenia/bella-ciao-italiano-%e2%9c%aa-sob-17-08-
 club-80-2/
SUMMARY:Bella Ciao Italiano! ✪ Sob. 17.08 - Club 80
DESCRIPTION:BELLA CIAO ITALIANO! ✪ Sob. 17.08 - Club 80\n\nGotowi na sobo
 tnią imprezę BELLA CIAO ITALIANO??\nUsłyszycie hity wszech czasów m.in
 . Modern Talking\, ABBA\, Boney M.\, Savage czy Bad Boys Blue. Światowe h
 ity i miła atmosfera gwarantują udaną noc!?\n\n?Pamiętajcie o czekają
 cych na Was  promocjach na barach. Szukajcie na mieście naszych hostess.\
 n--\nDolny poziom - DJ MARCO\nGórny poziom - DJ MILO\n--\nℹ INFO\n\n➡
  START: ? 20.00 | DOOR SELECTION\n\n➡ REZERWACJE\n? 517 517 519\n\n➡ R
 EGULAMIN KLUBU\nhttps://bit.ly/2AqoA65\n\n➡ POROZMAWIAJ ONLINE \nm.me/Cl
 ub80Premium\n\n➡ WSTĘP\nPANIE - 15zł\nPANOWIE - 20zł\n--\nwww.club80.
 pl\nwww.fb.com/Club80Premium
ATTACH;FMTTYPE=image/jpeg:https://night4u.pl/wp-content/uploads/2019/08/58
 086_image_67871619_3012952215443547_2525951149601718272_o.jpg
CATEGORIES:śląskie
LOCATION:Club 80 Siemianowice Śląskie\, Olimpijska 15\, Siemianowice Slas
 kie\, 41-100\, Poland
GEO:50.304733;19.017948
X-APPLE-STRUCTURED-LOCATION;VALUE=URI;X-ADDRESS=Olimpijska 15\, Siemianowic
 e Slaskie\, 41-100\, Poland;X-APPLE-RADIUS=100;X-TITLE=Club 80 Siemianowic
 e Śląskie:geo:50.304733,19.017948
END:VEVENT
BEGIN:VTIMEZONE
TZID:Europe/Warsaw
X-LIC-LOCATION:Europe/Warsaw
BEGIN:DAYLIGHT
DTSTART:20190331T030000
TZOFFSETFROM:+0100
TZOFFSETTO:+0200
TZNAME:CEST
END:DAYLIGHT
END:VTIMEZONE
END:VCALENDAR