BEGIN:VCALENDAR
VERSION:2.0
PRODID:-//wp-events-plugin.com//7.2.3.1//EN
TZID:Europe/Warsaw
X-WR-TIMEZONE:Europe/Warsaw
BEGIN:VEVENT
UID:37779@night4u.pl
DTSTART;TZID=Europe/Warsaw:20191212T203000
DTEND;TZID=Europe/Warsaw:20191212T223000
DTSTAMP:20200401T080457Z
URL:https://night4u.pl/wydarzenia/best-wishes-show-classic-burlesque-show/
SUMMARY:Sold Out! Best Wishes Show! // Classic Burlesque Show
DESCRIPTION:100% burleski w świątecznym show! Wprowadzamy Was dość prze
 kornie i bardzo zabawnie w świąteczny\, ale przede wszystkim burleskowy 
 nastrój\, jedyny w swoim rodzaju.\nNa Workowej scenie tego wieczoru wyst
 ąpią: Pony Boy Boylesq w roli performera oraz Stage Boya\, \, burleskowy
  piękny duet (!) Grotesque Bel Air\, stylowa Lola Noir - The Nightingale 
 of Burlesque o wspaniałym głosie oraz najseksowniejsza performerka polsk
 iej burleski Red Juliette.\n \nWieczór poprowadzi Anushka Wojtecka\, któ
 ra jak nikt łączy kabaret z burleską i wprowadza Was w rozrywkowy klima
 t naszych cotygodniowych przedstawień.\n\nGwarantujemy śmiech\, mnóstwo
  radości\, relaks w klimatycznym Worku\, największym polskim domu burles
 ki\, gdzie barmani i kelnerzy w lot zgadują Wasze koktajlowe życzenia - 
 nie wstawajcie od stolików\, będą na każde Wasze zawołanie. Bawimy Wa
 s od prawie dwóch lat\, show jest co tydzień i co tydzień inne\, niepow
 tarzalne!\n\nZabierajcie przyjaciół\, ukochanego\, ukochaną i spędźci
 e z nami ten wieczór. \n\nDress code: zalecamy strój wieczorowy\, poczuj
 cie się wyjątkowo\, bosko! ale wciąż komfortowo!\n\nNasze show przyci
 ągają gości z całej Polski i nie tylko z Polski\, wydarzenia jedyne w 
 swoim rodzaju\, na granicy burleski i kabaretu. Musicie to zobaczyć!\nZap
 raszamy!\n\nBanner wydarzenia: na zdjęciu Grotesque Bel Air\, fot. Anushk
 a Wojtecka. \n--------------------------------------\nCocktail Bar Worek K
 ości\, lokal dla Gości 18+	\nul. Bagatela 10\, Warszawa\nOtwarcie drzwi 
 godz. 18.30\nStart Show godz. 20.30\nTylko dla osób pełnoletnich.\nZdob
 ądź wejściówki* 50zł:\nhttps://goout.net/pl/bilety/best-wishes-night-
 show-classic-burlesque-show/rbqf/\n*Wejściówka gwarantuje miejsce siedz
 ące.  \n\nRezerwacje miejsc VIP przyjmujemy na miejscu w lokalu\, przez M
 essenger Worka Kości oraz telefonicznie 783 666 868 (telefon czynny w god
 zinach pracy klubu).\nIlość miejsc do rezerwacji ograniczona. \n\nBardzo
  prosimy o nienagrywanie całości eventu z uwagi na ochronę praw autorsk
 ich Twórców. \nProsimy o wzajemny szacunek.
ATTACH;FMTTYPE=image/jpeg:https://night4u.pl/wp-content/uploads/2019/11/10
 6334_image_75224849_2572271826186670_4303410742142435328_o.jpg
CATEGORIES:mazowieckie
LOCATION:Worek Kości\, ul. Bagatela 10\, Warsaw\, 00-585\, Poland
GEO:52.213769;21.023019
X-APPLE-STRUCTURED-LOCATION;VALUE=URI;X-ADDRESS=ul. Bagatela 10\, Warsaw\, 
 00-585\, Poland;X-APPLE-RADIUS=100;X-TITLE=Worek Kości:geo:52.213769,21.0
 23019
END:VEVENT
BEGIN:VTIMEZONE
TZID:Europe/Warsaw
X-LIC-LOCATION:Europe/Warsaw
BEGIN:STANDARD
DTSTART:20191027T020000
TZOFFSETFROM:+0200
TZOFFSETTO:+0100
TZNAME:CET
END:STANDARD
END:VTIMEZONE
END:VCALENDAR