BEGIN:VCALENDAR
VERSION:2.0
PRODID:-//wp-events-plugin.com//7.2.3.1//EN
TZID:Europe/Warsaw
X-WR-TIMEZONE:Europe/Warsaw
BEGIN:VEVENT
UID:1481@night4u.pl
DTSTART;TZID=Europe/Warsaw:20190214T210000
DTEND;TZID=Europe/Warsaw:20190215T000000
DTSTAMP:20181228T235326Z
URL:https://night4u.pl/wydarzenia/beyonce-night-14-02-nietota/
SUMMARY:Beyonce night / 14.02 / Nietota
DESCRIPTION:Czekaliśmy prawie rok aby powrócić do Was z tym koncertem. W
 alentynki wydają się być dobrą okazją 
ATTACH;FMTTYPE=image/jpeg:https://night4u.pl/wp-content/uploads/2018/12/68
 55_image_48926464_2088472947862253_4290325471440142336_o.jpg
CATEGORIES:dolnośląskie
LOCATION:Nietota\, ul.Kazimierza Wielkiego 50\, Wroclaw\, 50-078\, Poland
GEO:51.107699;17.031693
X-APPLE-STRUCTURED-LOCATION;VALUE=URI;X-ADDRESS=ul.Kazimierza Wielkiego 50\
 , Wroclaw\, 50-078\, Poland;X-APPLE-RADIUS=100;X-TITLE=Nietota:geo:51.1076
 99,17.031693
END:VEVENT
BEGIN:VTIMEZONE
TZID:Europe/Warsaw
X-LIC-LOCATION:Europe/Warsaw
BEGIN:STANDARD
DTSTART:20181028T020000
TZOFFSETFROM:+0200
TZOFFSETTO:+0100
TZNAME:CET
END:STANDARD
END:VTIMEZONE
END:VCALENDAR