BEGIN:VCALENDAR
VERSION:2.0
PRODID:-//wp-events-plugin.com//7.2.3.1//EN
TZID:Europe/Warsaw
X-WR-TIMEZONE:Europe/Warsaw
BEGIN:VEVENT
UID:20408@night4u.pl
DTSTART;TZID=Europe/Warsaw:20190712T230000
DTEND;TZID=Europe/Warsaw:20190713T060000
DTSTAMP:20190629T105546Z
URL:https://night4u.pl/wydarzenia/bialy-dom-030/
SUMMARY:BIAŁY DOM 030
DESCRIPTION:12.07.2019\nBIAŁY DOM 030 \n--------------------------\n\nDJS:
 \n\nEXPECTED GATES \nhttps://www.facebook.com/expectedgates/ \nsoundcloud.
 com/expected_gates\n\nBOMBCHEN [Biały DOM / OIOM]\nhttps://facebook.com/B
 ombchen-134849674829/\nhttps://mixcloud.com/Bombchen/\n\nSESZEL [Biały DO
 M / OIOM]\nhttps://mixcloud.com/michalpopychal/\nhttps://soundcloud.com/mi
 chal-popychal\n\nMÓJ BRAT [Biały DOM]\nhttps://mixcloud.com/artur-zaradz
 ki/ \nhttps://soundcloud.com/artur-zaradzki\n\nstart 23:00 \n- wstęp bezp
 łatny\n\nWHITE NOSE HOUSE ! \;-)\n--------------------------------------
ATTACH;FMTTYPE=image/jpeg:https://night4u.pl/wp-content/uploads/2019/06/48
 972_image_65577576_10156712418179830_6071143745586200576_o.jpg
CATEGORIES:łódzkie
LOCATION:DOM\, Piotrkowska 138/140\, Łódź\, 90-062\, Poland
GEO:51.761319;19.459444
X-APPLE-STRUCTURED-LOCATION;VALUE=URI;X-ADDRESS=Piotrkowska 138/140\, Łód
 ź\, 90-062\, Poland;X-APPLE-RADIUS=100;X-TITLE=DOM:geo:51.761319,19.45944
 4
END:VEVENT
BEGIN:VTIMEZONE
TZID:Europe/Warsaw
X-LIC-LOCATION:Europe/Warsaw
BEGIN:DAYLIGHT
DTSTART:20190331T030000
TZOFFSETFROM:+0100
TZOFFSETTO:+0200
TZNAME:CEST
END:DAYLIGHT
END:VTIMEZONE
END:VCALENDAR