BEGIN:VCALENDAR
VERSION:2.0
PRODID:-//wp-events-plugin.com//7.2.3.1//EN
TZID:Europe/Warsaw
X-WR-TIMEZONE:Europe/Warsaw
BEGIN:VEVENT
UID:20881@night4u.pl
DTSTART;TZID=Europe/Warsaw:20190713T220000
DTEND;TZID=Europe/Warsaw:20190713T220000
DTSTAMP:20190704T023355Z
URL:https://night4u.pl/wydarzenia/big-city-beats-dj-slovik-dave-c/
SUMMARY:Big City Beats :: Dj Slovik & Dave C
DESCRIPTION:Big City Beats nadciąga ! \n\nSlovik - wielbiciel seksownych i
  ciepłych brzmień muzyki house\, który od ponad dekady przekłada swoj
 ą pasję na pozytywne emocje ludzi bawiących się wraz z nim . Rezydent 
 takich klubów jak: wrocławski Grey\, wcześniej Cherry\, Lemoniada. Mia
 ł przyjemność występować u boku takich gwiazd jak Dj Tonka\, Sandy Ri
 viera\, Dirty Freek\, Ben Delay\, Copyright (Defected)\, Mr. X / Africa Is
 lam\, Stu Ojelay (Hed Kandi UK)\, DJ Haze\, Karol VII & Mb Valence (Loco R
 ec)\, jak i polskich dj'i - Novika & Lex\, Wet Fingers\, Loui & Scibi\, Gr
 oove Coctail\, Neevald\, Jakub Rene Kosik\, Dj D'Vision i wielu innych...\
 n\n\n:: PROMO ::\n⚠️ Wjazd Free & Bar -50% do 23 ❗️\n\n:: MUSIC ::
  \nSlovik & Dave C\n\n________________\n►Start: 22: 00 | Selekcja |\n►
 Wejście Free do 23 ! \n►Rezerwacje: 666 13 14 15
ATTACH;FMTTYPE=image/jpeg:https://night4u.pl/wp-content/uploads/2019/07/49
 970_image_65875905_10156284233307327_6949010167258152960_n.jpg
CATEGORIES:opolskie
LOCATION:Aqarium Music Club\, ul. Franciszkańska 1\, Opole\, 45-021\, Pola
 nd
GEO:50.66778;17.92274
X-APPLE-STRUCTURED-LOCATION;VALUE=URI;X-ADDRESS=ul. Franciszkańska 1\, Opo
 le\, 45-021\, Poland;X-APPLE-RADIUS=100;X-TITLE=Aqarium Music Club:geo:50.
 66778,17.92274
END:VEVENT
BEGIN:VTIMEZONE
TZID:Europe/Warsaw
X-LIC-LOCATION:Europe/Warsaw
BEGIN:DAYLIGHT
DTSTART:20190331T030000
TZOFFSETFROM:+0100
TZOFFSETTO:+0200
TZNAME:CEST
END:DAYLIGHT
END:VTIMEZONE
END:VCALENDAR