BEGIN:VCALENDAR
VERSION:2.0
PRODID:-//wp-events-plugin.com//7.2.3.1//EN
TZID:Europe/Warsaw
X-WR-TIMEZONE:Europe/Warsaw
BEGIN:VEVENT
UID:45896@night4u.pl
DTSTART;TZID=Europe/Warsaw:20200207T235900
DTEND;TZID=Europe/Warsaw:20200208T120000
DTSTAMP:20200208T104635Z
URL:https://night4u.pl/wydarzenia/biotechnologia-7-nowa-ksiega-dzungli/
SUMMARY:Biotechnologia #7: Nowa księga dżungli
DESCRIPTION:Biotechnologia to platforma muzyczna i seria eventów stojąca 
 nieco w opozycji do polskiej sceny klubowej zdominowanej przez techno w wy
 daniu brutalnym i industrialnym. \nChcemy przekonywać słuchaczy do odkry
 wania fascynującego brzmieniowo i muzycznie - techno psychodelicznego\, h
 ipnotycznego\, ambientowego czy też odbiegającego od klasycznych ram 4/4
 . \nNie boimy się też mieszać stylistyk.\nTutaj bit to podstawa\, ale t
 o co pod spodem\, jest nie mniej ważne\, ponieważ opowiada nam historię
 .\nA ponadto\, szukamy pierwiastka bio\, bo przecież niedaleko od rave'u 
 do rytualnego tańca.\n\nTym razem\, będziemy interpretować dźwiękowo 
 wspaniałą powieść Rudyarda Kiplinga "Księga dżungli". Tej nocy dopis
 zemy do niej nowy rozdział. Możecie się spodziewać wielu tribali\, i n
 ie mamy na myśli tatuaży...\n\nLine up:\n\nBlack room (Biotechnologia):\
 nDtekk (Up To Date Festival / Jasna 1)\nSin (Analogen/ Urbanum/ Tama)\nAxi
 s operandi (Biotechnologia)\n\nRed room (Luzztro residents)\nWEIKUM (Luzzt
 ro/ Glasgow Underground)\nKevs (Luzztro)\n\nAfter:\nRed room\nKoZa (Luzztr
 o)\nRoom -1 \nEasy (Luzztro)\n\nLuzztro Home Club/ 07.02.2020\nWstęp: 30 
 zł.\n18+\n\nPamiętaj\, bądź miłym i uprzejmym człowiekiem. Razem bud
 ujemy klubową społeczność.\n\nZapraszamy do świata Biotechnologii...\
 n\nWspierają nas: Elektrowkręta\, Wake &amp\; Rave\, Bunker Events\, Ele
 ktroniczna Warszawa
ATTACH;FMTTYPE=image/jpeg:https://night4u.pl/wp-content/uploads/2020/02/14
 9747_image_82647080_550884055516232_4858581912790237184_o.jpg
CATEGORIES:mazowieckie
LOCATION:Luzztro\, Aleje Jerozolimskie 6\, Warsaw\, 00-374\, Poland
GEO:52.232779;21.023655
X-APPLE-STRUCTURED-LOCATION;VALUE=URI;X-ADDRESS=Aleje Jerozolimskie 6\, War
 saw\, 00-374\, Poland;X-APPLE-RADIUS=100;X-TITLE=Luzztro:geo:52.232779,21.
 023655
END:VEVENT
BEGIN:VTIMEZONE
TZID:Europe/Warsaw
X-LIC-LOCATION:Europe/Warsaw
BEGIN:STANDARD
DTSTART:20191027T020000
TZOFFSETFROM:+0200
TZOFFSETTO:+0100
TZNAME:CET
END:STANDARD
END:VTIMEZONE
END:VCALENDAR