BEGIN:VCALENDAR
VERSION:2.0
PRODID:-//wp-events-plugin.com//7.2.3.1//EN
TZID:Europe/Warsaw
X-WR-TIMEZONE:Europe/Warsaw
BEGIN:VEVENT
UID:26896@night4u.pl
DTSTART;TZID=Europe/Warsaw:20190911T210000
DTEND;TZID=Europe/Warsaw:20190912T040000
DTSTAMP:20190907T180205Z
URL:https://night4u.pl/wydarzenia/bitwa-na-shoty-orient-apple-vs-pear-fres
 h-%e2%9c%aa-sr-11-09/
SUMMARY:Bitwa na shoty! Orient Apple vs Pear Fresh ✪ Śr. 11.09
DESCRIPTION:W środę zaczynamy imprezowy weekend w Pomarańczy ? od pojedy
 nku na shoty! ? Jak myślicie kto wygra? Zielony ORIENT APPLE czy słodki 
 PEAR FRESH?\nAle to nie wszystko co czeka na Was w Pomarańczy - oprócz d
 obrej zabawy bo to oczywiste \;) \n\nNa barze czekać będą na Was mega p
 romocje:\n? Shot Barmański - 3 zł \n? Cytrynówka / Wiśniówka - 4 zł\
 n? Piwo EB - 5 zł\n? Wódka - 5 zł\n? Wódka z Cola / Sprite - 9 zł\n? 
 Ballantines z Colą / Sprite - 10 zł \n\n--\nINFORMACJE\n? 11.09 - ŚRODA
 \n? Start: 21:00\n? Selekcja: +18\n? Wstęp: \nStudenci - 5zł\nReszta św
 iata - 10zł\nWszyscy do 22:00 - WSTĘP FREE\n? Katowice\, ul. Mickiewicza
  4\, Galeria Skarbek (Rynek)\n--\nPROMOCJE\n? Odprawimy Twoje urodziny!\nA
  także zorganizujemy:\n? Wieczór Panieński\n? Wieczór Kawalerski\nReze
 rwacje od wtorku do soboty od 13:00 do 21:00\n? 536 901 907\n? mojaimpreza
 @pomaranczagroup.pl\n--\nMUZYKA\nSALA KLUBOWA ▶ CAMILLO\n--\nINSTAGRAM\n
 www.instagram.com/pomarancza_katowice
ATTACH;FMTTYPE=image/jpeg:https://night4u.pl/wp-content/uploads/2019/09/62
 706_image_70590505_2689067107778960_7838515284582334464_o.jpg
CATEGORIES:śląskie
LOCATION:Klub Pomarańcza Katowice\, Mickiewicza 4\, Katowice\, 40-092\, Po
 land
GEO:50.25976;19.02082
X-APPLE-STRUCTURED-LOCATION;VALUE=URI;X-ADDRESS=Mickiewicza 4\, Katowice\, 
 40-092\, Poland;X-APPLE-RADIUS=100;X-TITLE=Klub Pomarańcza Katowice:geo:5
 0.25976,19.02082
END:VEVENT
BEGIN:VTIMEZONE
TZID:Europe/Warsaw
X-LIC-LOCATION:Europe/Warsaw
BEGIN:DAYLIGHT
DTSTART:20190331T030000
TZOFFSETFROM:+0100
TZOFFSETTO:+0200
TZNAME:CEST
END:DAYLIGHT
END:VTIMEZONE
END:VCALENDAR