BEGIN:VCALENDAR
VERSION:2.0
PRODID:-//wp-events-plugin.com//7.2.3.1//EN
TZID:Europe/Warsaw
X-WR-TIMEZONE:Europe/Warsaw
BEGIN:VEVENT
UID:3079@night4u.pl
DTSTART;TZID=Europe/Warsaw:20190112T210000
DTEND;TZID=Europe/Warsaw:20190113T060000
DTSTAMP:20190108T174342Z
URL:https://night4u.pl/wydarzenia/bitwa-o-wroclaw-lili-vs-jacob-a/
SUMMARY:Bitwa o Wrocław // Lili vs Jacob A.
DESCRIPTION:Bitwa o Wrocław // Lili Szwarcowska vs Jacob A\n\nRezerwacja l
 óż www.wroclaw.xdemon.pl\nSelekcja +21
ATTACH;FMTTYPE=image/jpeg:https://night4u.pl/wp-content/uploads/2019/01/10
 286_image_49587751_962688657249147_6591604596865499136_o.jpg
CATEGORIES:dolnośląskie
LOCATION:X-Demon - Wrocław\, \, 
X-APPLE-STRUCTURED-LOCATION;VALUE=URI;X-ADDRESS=\, ;X-APPLE-RADIUS=100;X-TI
 TLE=X-Demon - Wrocław:geo:0,0
END:VEVENT
BEGIN:VTIMEZONE
TZID:Europe/Warsaw
X-LIC-LOCATION:Europe/Warsaw
BEGIN:STANDARD
DTSTART:20181028T020000
TZOFFSETFROM:+0200
TZOFFSETTO:+0100
TZNAME:CET
END:STANDARD
END:VTIMEZONE
END:VCALENDAR