BEGIN:VCALENDAR
VERSION:2.0
PRODID:-//wp-events-plugin.com//7.2.3.1//EN
TZID:Europe/Warsaw
X-WR-TIMEZONE:Europe/Warsaw
BEGIN:VEVENT
UID:9436@night4u.pl
DTSTART;TZID=Europe/Warsaw:20190322T210000
DTEND;TZID=Europe/Warsaw:20190323T060000
DTSTAMP:20190314T210335Z
URL:https://night4u.pl/wydarzenia/bitwa-o-zielona-gore-xdemon-zielona-gora
 /
SUMMARY:Bitwa o Zieloną Górę // Xdemon Zielona Góra
DESCRIPTION:⚡️ZIELONA GÓRA vs. POZNAŃ⚡️\nAxelSound kontra DJ NOIS
 ERR\nKto podbije Wasze serce i wygra wielką bitwę o Zieloną Górę❓\n
 Zadecydujecie już sami ?\n\n☎ Rezerwacje ONLINE http://bit.ly/1RtF806\n
 INFO: 6797 407 885 ☎\n\nNie zapomnij o kuszących promocjach w klubie X-
 DEMON:\n\nPROMOCJA URODZINOWA\nPROMOCJA NA WIECZÓR PANIEŃSKI \n\nOBSERWU
 J NAS:\nwww.xdemon.pl\nwww.facebook.com/XDemon\nwww.instagram.com/xdemonzi
 elonagora\nsnapchat: xdemonzg
ATTACH;FMTTYPE=image/jpeg:https://night4u.pl/wp-content/uploads/2019/03/25
 478_image_54436636_2968778569802574_5799559232449675264_o.jpg
CATEGORIES:lubuskie
LOCATION:X-Demon - Zielona Góra\, \, 
X-APPLE-STRUCTURED-LOCATION;VALUE=URI;X-ADDRESS=\, ;X-APPLE-RADIUS=100;X-TI
 TLE=X-Demon - Zielona Góra:geo:0,0
END:VEVENT
BEGIN:VTIMEZONE
TZID:Europe/Warsaw
X-LIC-LOCATION:Europe/Warsaw
BEGIN:STANDARD
DTSTART:20181028T020000
TZOFFSETFROM:+0200
TZOFFSETTO:+0100
TZNAME:CET
END:STANDARD
END:VTIMEZONE
END:VCALENDAR