BEGIN:VCALENDAR
VERSION:2.0
PRODID:-//wp-events-plugin.com//7.2.3.1//EN
TZID:Europe/Warsaw
X-WR-TIMEZONE:Europe/Warsaw
BEGIN:VEVENT
UID:33580@night4u.pl
DTSTART;TZID=Europe/Warsaw:20191122T210000
DTEND;TZID=Europe/Warsaw:20191123T040000
DTSTAMP:20191122T230540Z
URL:https://night4u.pl/wydarzenia/blacha-2115-%e2%98%85-hip-hop-22-11/
SUMMARY:Blacha 2115 ★ Hip-Hop 22.11
DESCRIPTION:BLACHA 2115 ★ HIP-HOP\nCzas na zakończenie grubego sezonu im
 prezowego! \nOstatnie grube imprezy przed przerwą ADWENTOWĄ! \n\nZaprasz
 amy na HIP-HOP NIGHT! Razem z nami BLACHA 2115! Twórca hitów: "MADEMOISE
 LLE"\, "CASABLANCA"\, "BONNIE &amp\; CLYDE" i "APOLLO"! Oprócz koncertu s
 podziewajcie się mega sztosów\, które zaserwują Wam nasi rezydenci! Do
 datkowo czekają na Was specjalne niespodzianki! \n\nZAGRAJĄ: TIMMEIT &am
 p\; D.I.B.\nPIĄTEK 22.11 | START: 21.00 | BILETY: 20 ZŁ\n---------------
 ------------------\n★ Magnum Club★Wachów ★ul. Polna 13a★\n★ Rez
 erwacje boksów: 605 050 240 ★\n★ Start : 21.00 ★
ATTACH;FMTTYPE=image/jpeg:https://night4u.pl/wp-content/uploads/2019/11/84
 394_image_75356917_2548566491846759_2283993149074309120_o.jpg
CATEGORIES:opolskie
LOCATION:Magnum CLUB Wachów\, Polna 13\, Wachów\, 46-300\, Poland
GEO:50.844965;18.388158
X-APPLE-STRUCTURED-LOCATION;VALUE=URI;X-ADDRESS=Polna 13\, Wachów\, 46-300
 \, Poland;X-APPLE-RADIUS=100;X-TITLE=Magnum CLUB Wachów:geo:50.844965,18.
 388158
END:VEVENT
BEGIN:VTIMEZONE
TZID:Europe/Warsaw
X-LIC-LOCATION:Europe/Warsaw
BEGIN:STANDARD
DTSTART:20191027T020000
TZOFFSETFROM:+0200
TZOFFSETTO:+0100
TZNAME:CET
END:STANDARD
END:VTIMEZONE
END:VCALENDAR