BEGIN:VCALENDAR
VERSION:2.0
PRODID:-//wp-events-plugin.com//7.2.3.1//EN
TZID:Europe/Warsaw
X-WR-TIMEZONE:Europe/Warsaw
BEGIN:VEVENT
UID:37898@night4u.pl
DTSTART;TZID=Europe/Warsaw:20191129T210000
DTEND;TZID=Europe/Warsaw:20191130T040000
DTSTAMP:20191129T100402Z
URL:https://night4u.pl/wydarzenia/black-friday-%e2%98%85-stars/
SUMMARY:BLACK Friday ★ STARS
DESCRIPTION:Jeśli nie macie jeszcze planów na piątkowy wieczór\, mamy d
 la Was idealną propozycję! Z okazji BLACK FRIDAY na barze czekać będą
  pyszne drinki w super cenie\, a na parkiecie to co lubicie najbardziej cz
 yli pozytywny klimat i najlepsze brzmienia! Za gramofonami tej nocy staną
 : poznański DJ RINK oraz bydgoski DJ KETA\, którzy w towarzystwie MR DRU
 MR'a zaprezentują Wam niezłą muzyczną przelotkę!\n\n★ ★ ★\n\nWs
 tęp do 23:00:\n- panie i panowie: FREE\,\n- karty "Star of Stars": FREE (
 z osobą towarzyszącą)\,\n- karty "Queen of Stars": FREE.\n\nWstęp od 2
 3:00:\n- panie i panowie: 10 PLN\,\n- z legitymacją studencką: FREE\n- k
 arty "Star of Stars": FREE (z osobą towarzyszącą)\,\n- karty "Queen of 
 Stars": FREE.\n\n★ ★ ★\n\nPamiętajcie o stroju\, bo jest selekcja. 
 Nie trzeba się jej bać\, zresztą zerknijcie w nasze galerie\, żeby zob
 aczyć jak to od wewnątrz wygląda. Nie wymagamy kreacji wieczorowych ale
  schludny strój casualowy/klubowy jest wskazany ... to tak\, żebyśmy ws
 zyscy dobrze się czuli.\n\nMinimum wiekowe: 21 (lub legitymacja studencka
 )\n\nStars Club &amp\; Lounge\nBulwar Filadelfijski 11\n87-100 Toruń\n\nI
 nternet: www.klubstars.pl\nE-mail: stars@klubstars.pl\n\nRezerwacje (wył
 ącznie sms): +48 516857514\nMenu: http://menu.klubstars.pl/\nWnętrza: ht
 tp://instagram.com/klubstars
ATTACH;FMTTYPE=image/jpeg:https://night4u.pl/wp-content/uploads/2019/11/10
 6991_image_76633667_1246387358895374_3023777140979007488_o.jpg
CATEGORIES:kujawsko-pomorskie
LOCATION:Klub Stars\, Bulwar Filadelfijski 11\, Torun\, 87-100\, Poland
GEO:53.007579;18.598323
X-APPLE-STRUCTURED-LOCATION;VALUE=URI;X-ADDRESS=Bulwar Filadelfijski 11\, T
 orun\, 87-100\, Poland;X-APPLE-RADIUS=100;X-TITLE=Klub Stars:geo:53.007579
 ,18.598323
END:VEVENT
BEGIN:VTIMEZONE
TZID:Europe/Warsaw
X-LIC-LOCATION:Europe/Warsaw
BEGIN:STANDARD
DTSTART:20191027T020000
TZOFFSETFROM:+0200
TZOFFSETTO:+0100
TZNAME:CET
END:STANDARD
END:VTIMEZONE
END:VCALENDAR