BEGIN:VCALENDAR
VERSION:2.0
PRODID:-//wp-events-plugin.com//7.2.3.1//EN
TZID:Europe/Warsaw
X-WR-TIMEZONE:Europe/Warsaw
BEGIN:VEVENT
UID:37576@night4u.pl
DTSTART;TZID=Europe/Warsaw:20191129T210000
DTEND;TZID=Europe/Warsaw:20191130T040000
DTSTAMP:20191129T090938Z
URL:https://night4u.pl/wydarzenia/black-friday-special/
SUMMARY:Black Friday Special
DESCRIPTION:BLACK FRIDAY zawita do nas w ostatni piątek listopada! Będzie
  sporo R'n'B\, tanecznych hip-hopów i rapów. Zmiksuje je dla Was Bart Wa
 ve.\nTo będzie niezapomniania noc.\nJuż nie możemy się doczekać. \n__
 __________________________________________________\nStart 21:00\n+21 kobie
 ty/ 23 mężczyźni \nobowiązuje selekcja\ndress code: smart casual\n\nWe
 jście promo 10zł\n\n- wszystkie loże – 50%\n\nBAR PROMO :\n\nPiwo lan
 e 10zł\n\nPiwo Captain Jack 10zł\n\nKamikaze 10zł\n\nDrink wódka + Spr
 ite 15zł  \n\nRezerwacje:\nhttps://emenago.com/inner/vandiesel
ATTACH;FMTTYPE=image/jpeg:https://night4u.pl/wp-content/uploads/2019/11/10
 5026_image_77202338_3707678745912724_2769329092086988800_o.jpg
CATEGORIES:wielkopolskie
LOCATION:Van Diesel Club\, Stary Rynek 88\, Poznan\, 61-722\, Poland
GEO:52.408864;16.933094
X-APPLE-STRUCTURED-LOCATION;VALUE=URI;X-ADDRESS=Stary Rynek 88\, Poznan\, 6
 1-722\, Poland;X-APPLE-RADIUS=100;X-TITLE=Van Diesel Club:geo:52.408864,16
 .933094
END:VEVENT
BEGIN:VTIMEZONE
TZID:Europe/Warsaw
X-LIC-LOCATION:Europe/Warsaw
BEGIN:STANDARD
DTSTART:20191027T020000
TZOFFSETFROM:+0200
TZOFFSETTO:+0100
TZNAME:CET
END:STANDARD
END:VTIMEZONE
END:VCALENDAR