BEGIN:VCALENDAR
VERSION:2.0
PRODID:-//wp-events-plugin.com//7.2.3.1//EN
TZID:Europe/Warsaw
X-WR-TIMEZONE:Europe/Warsaw
BEGIN:VEVENT
UID:38403@night4u.pl
DTSTART;TZID=Europe/Warsaw:20191205T210000
DTEND;TZID=Europe/Warsaw:20191206T053000
DTSTAMP:20191205T144407Z
URL:https://night4u.pl/wydarzenia/black-is-back-s-jean-na-santa-party-uwr-
 wsp-i-mwslit-5-12/
SUMMARY:Black Is Back // S-Jean na SANTA PARTY UWr\, WSP i MWSLiT 5.12
DESCRIPTION:BLACK IS BACK BABY .. 😎😎\nTaaaak dobrze znacie tą nazwę
  \;) Najlepsza czwartkowa dawka czarnych brzmień tylko w Mundo 71 😎
 😎\nA już 5 grudnia\, podczas SANTA PARTY które organizują u nas ludz
 ie z UWR\, WSP i MWSLIT wystąpi specjalnie dla was prosto z Niemiec DJ S-
 Jean ❗️ ❗️ ❗️ BĘDZIE MEGA PETARDA\n\nZapraszamy wszystkich se
 rdecznie na mega imprezę. Nie zabraknie zwariowanych atrakcji i promocji 
 na barze ❗️ ❗️ ❗️\n\nSTART - 21:00\nREZERWACJE - https://emena
 go.com/inner/cart/178/3a5e3424d2399f16e4c31498e13d8c8b/pl\n_______________
 ___\n[ENG]\nBLACK IS BACK BABY 😎😎\nYeeeeeah\,  you know that name we
 ll. ) The best Thursday's dose of black sounds only in Mundo 71 😎😎\n
 And on December 5th\, during the SANTA PARTY organized by the UWR\, WSP i 
 MWSLIT people\, DJ S-Jean from Germany will perform specially for you ❗
 ️ ❗️ ❗️ IT WILL BE HOT AS HELL\n\nWe cordially invite everyone t
 o a mega party. There will be a lot of crazy attractions and promotions at
  the bar ❗️ ❗️ ❗️ ❗️\n\nSTART - 9p.m.\nReservations - http
 s://emenago.com/inner/cart/178/3a5e3424d2399f16e4c31498e13d8c8b/pl
ATTACH;FMTTYPE=image/jpeg:https://night4u.pl/wp-content/uploads/2019/12/10
 9806_image_78783018_3520575214636010_5184964603691401216_o.jpg
CATEGORIES:dolnośląskie
LOCATION:Mundo 71 Music Club\, Wroclaw\, Poland
GEO:51.110129;17.025381
X-APPLE-STRUCTURED-LOCATION;VALUE=URI;X-ADDRESS=Wroclaw\, Poland;X-APPLE-RA
 DIUS=100;X-TITLE=Mundo 71 Music Club:geo:51.110129,17.025381
END:VEVENT
BEGIN:VTIMEZONE
TZID:Europe/Warsaw
X-LIC-LOCATION:Europe/Warsaw
BEGIN:STANDARD
DTSTART:20191027T020000
TZOFFSETFROM:+0200
TZOFFSETTO:+0100
TZNAME:CET
END:STANDARD
END:VTIMEZONE
END:VCALENDAR