BEGIN:VCALENDAR
VERSION:2.0
PRODID:-//wp-events-plugin.com//7.2.3.1//EN
TZID:Europe/Warsaw
X-WR-TIMEZONE:Europe/Warsaw
BEGIN:VEVENT
UID:49683@night4u.pl
DTSTART;TZID=Europe/Warsaw:20200309T230000
DTEND;TZID=Europe/Warsaw:20200310T060000
DTSTAMP:20200309T104729Z
URL:https://night4u.pl/wydarzenia/black-monday/
SUMMARY:Black Monday
DESCRIPTION:Jeśli dusze mają jakikolwiek kolor to zapewne jest to #CZARNY
 . \nTen tydzień rozpoczynamy w wyjątkowym i bardzo lubianym przez konese
 rów wyrazistej muzyki elektronicznej stylu. \n\nBLACK MONDAY to coś wię
 cej niż kolejny poniedziałek. To mocna pobudka po weekendzie i duża daw
 ka energii na kolejne 7 dni! \n\n♠️🌟ALL NIGHT LONG \nBlack Fish\nGu
 est: Roysat\n\n\n🎱BLACK START - 23:00\n🎱BLACK TIX - 20\n🎱BLACK MO
 MENTS - invaluable \n-----------------------\nhttps://www.youtube.com/watc
 h?v=WWtWg_nURSc\nhttps://www.youtube.com/watch?v=ZhZQ65vcPF8
ATTACH;FMTTYPE=image/jpeg:https://night4u.pl/wp-content/uploads/2020/03/17
 3422_image_88261139_3614314138641206_6840165065933455360_n.jpg
CATEGORIES:mazowieckie
LOCATION:Luzztro\, Aleje Jerozolimskie 6\, Warsaw\, 00-374\, Poland
GEO:52.232779;21.023655
X-APPLE-STRUCTURED-LOCATION;VALUE=URI;X-ADDRESS=Aleje Jerozolimskie 6\, War
 saw\, 00-374\, Poland;X-APPLE-RADIUS=100;X-TITLE=Luzztro:geo:52.232779,21.
 023655
END:VEVENT
BEGIN:VTIMEZONE
TZID:Europe/Warsaw
X-LIC-LOCATION:Europe/Warsaw
BEGIN:STANDARD
DTSTART:20191027T020000
TZOFFSETFROM:+0200
TZOFFSETTO:+0100
TZNAME:CET
END:STANDARD
END:VTIMEZONE
END:VCALENDAR