BEGIN:VCALENDAR
VERSION:2.0
PRODID:-//wp-events-plugin.com//7.2.3.1//EN
TZID:Europe/Warsaw
X-WR-TIMEZONE:Europe/Warsaw
BEGIN:VEVENT
UID:50755@night4u.pl
DTSTART;TZID=Europe/Warsaw:20210910T200000
DTEND;TZID=Europe/Warsaw:20210910T230000
DTSTAMP:20210908T144905Z
URL:https://night4u.pl/wydarzenia/black-sabbath-tribute-usa-w-starym-klasz
 torze/
SUMMARY:Black Sabbath Tribute (USA) w Starym Klasztorze!
DESCRIPTION:BLACK SABBATH TRIBUTE (USA) w Starym Klasztorze!\n\nBLACK SABBA
 TH TRIBUTE + LORD BISHOP ROCKS  -  to 2 zespoły z USA na jednej trasie!  
 \nStary Klasztor zaprasza 10 września 2021 na wyjątkowe show zespołu Ea
 rth - jednego z najlepszych amerykańskich tribute bandów Black Sabbath. 
 Po raz drugi w trasie po Europie z legendarnym dzikim Lordem Bishop z Bron
 x. \nNie przegap - czeka na Ciebie bardzo wierny pokaz największych hitó
 w Black Sabbath! \n\nZespół Earth zagra w składzie:\nRay Sylvestre - wo
 kal\nOpus - perkusja\nJesse Near - gitara\nErick Von Heller - bas\n\n„Je
 stem wystarczająco młody\, żeby grać rock'n'rolla i wystarczająco sta
 ry\, żeby to zagrać!" - mówi Lord Bishop\, tajemniczy i niepowtarzalny 
 dwumetrowy gitarzysta z nowojorskiego Bronxu. Karierę zawodową rozpoczą
 ł w nowojorskim funky rockowym zespole Total Sexual Freedom\, ale po kilk
 u wydanych płytach i po kilku latach stał się niezależny i zaczął wy
 stępować na całym świecie jako solista. W ciągu ostatnich 15 lat nagr
 ał 11 płyt CD i zagrał ponad 3000 koncertów w 44 krajach. W 2010 roku 
 był gwiazdą festiwalu Colours of Ostrava\, gościnnie występując na je
 dnej scenie z Living Colour\, Nazareth\, czy z Edgarem i Johnnym Winterem.
 \n\nJego rock'n'roll zawiera surowy rock\, dance funky\, emocjonalny blues
 \, bezczelny punk i magię voodoo. Wszyscy tańczą na jego koncertach\, a
  on dudni na gitarze\, jakby Hendrix jeździł na harleyu. Jest jak Jimi H
 endrix\, Lemmy i James Brown w jednej osobie. Widzowie po prostu nie zapom
 inają o jego muzyce\, wyglądzie i energii!\n\nCzłonkowie zespołu:\nLor
 d Bishop  - wokal / gitara\nGabriel «Velä» Velazquez - bas\nDuda «The 
 Bricklayer»  - perkusja\n\n10.09.21 godz.20.00 Sala Gotycka w Starym Klas
 ztorze\, ul. Purkyniego 1\nBLACK SABBATH TRIBUTE (USA)\nEarth + Lord Bisho
 p Rocks \nbilety: 45 zł –  I pula\nwejściówki (studenci i uczniowie):
  35 zł – I pula\n\nBilety dostępne w serwisach: www.staryklasztor.com.
 pl/bilety/\, www.eventim.pl\, www.ebilet.pl\, goingapp.pl\,  www.kupbileci
 k.pl\, www.biletyna.pl \nrezerwacje: bilety@o2.pl
ATTACH;FMTTYPE=image/jpeg:https://night4u.pl/wp-content/uploads/2021/04/18
 5085_image_109930171_3112624612185986_5257260189872307812_n.jpg
LOCATION:A2 - Centrum Koncertowe\, Góralska 5\, Wroclaw\, 53-610\, Poland
GEO:51.108613;17.001703
X-APPLE-STRUCTURED-LOCATION;VALUE=URI;X-ADDRESS=Góralska 5\, Wroclaw\, 53-
 610\, Poland;X-APPLE-RADIUS=100;X-TITLE=A2 - Centrum Koncertowe:geo:51.108
 613,17.001703
END:VEVENT
BEGIN:VTIMEZONE
TZID:Europe/Warsaw
X-LIC-LOCATION:Europe/Warsaw
BEGIN:DAYLIGHT
DTSTART:20210328T030000
TZOFFSETFROM:+0100
TZOFFSETTO:+0200
TZNAME:CEST
END:DAYLIGHT
END:VTIMEZONE
END:VCALENDAR