BEGIN:VCALENDAR
VERSION:2.0
PRODID:-//wp-events-plugin.com//7.2.3.1//EN
TZID:Europe/Warsaw
X-WR-TIMEZONE:Europe/Warsaw
BEGIN:VEVENT
UID:34860@night4u.pl
DTSTART;TZID=Europe/Warsaw:20191109T210000
DTEND;TZID=Europe/Warsaw:20191110T040000
DTSTAMP:20191107T092131Z
URL:https://night4u.pl/wydarzenia/black-saturday-night-drugi-dom-najlepszy
 -klimat-w-miescie/
SUMMARY:Black Saturday Night // Drugi Dom Najlepszy Klimat w Mieście
DESCRIPTION:Kolejna dawka świetnej muzyki i wyjątkowy klimat sobotnich im
 prez! \n\nW wyjątkowym klimacie Dj Kwiatek!
ATTACH;FMTTYPE=image/jpeg:https://night4u.pl/wp-content/uploads/2019/11/91
 425_image_74353244_10158964701199992_2492184309994094592_o.jpg
CATEGORIES:łódzkie
LOCATION:Drugi Dom\, Mickiewicza 11\, Skierniewice\, 96-100\, Poland
GEO:51.96839;20.156641
X-APPLE-STRUCTURED-LOCATION;VALUE=URI;X-ADDRESS=Mickiewicza 11\, Skierniewi
 ce\, 96-100\, Poland;X-APPLE-RADIUS=100;X-TITLE=Drugi Dom:geo:51.96839,20.
 156641
END:VEVENT
BEGIN:VTIMEZONE
TZID:Europe/Warsaw
X-LIC-LOCATION:Europe/Warsaw
BEGIN:STANDARD
DTSTART:20191027T020000
TZOFFSETFROM:+0200
TZOFFSETTO:+0100
TZNAME:CET
END:STANDARD
END:VTIMEZONE
END:VCALENDAR