BEGIN:VCALENDAR
VERSION:2.0
PRODID:-//wp-events-plugin.com//7.2.3.1//EN
TZID:Europe/Warsaw
X-WR-TIMEZONE:Europe/Warsaw
BEGIN:VEVENT
UID:39165@night4u.pl
DTSTART;TZID=Europe/Warsaw:20200111T203000
DTEND;TZID=Europe/Warsaw:20200111T233000
DTSTAMP:20200111T173048Z
URL:https://night4u.pl/wydarzenia/black-tundra-4dots-hadal-11-01-motor-roc
 k-pub/
SUMMARY:4dots / Hadal / Dule Tree  11.01 Motor Rock Pub
DESCRIPTION:Początek roku zapowiada się mrocznie\, klimatycznie i tajemni
 czo. W ramach krótkiej bezimiennej trasy do sześciu polskich miast zawit
 ają zespoły Black Tundra oraz [::] a.k.a. 4dots promujące swoje najnows
 ze wydawnictwa. W roli gości specjalnych zaprezentują się kolejno Hadal
 \, Forge of Clouds oraz Moanaa.\n\nKoncerty poprzedzi release gig jeszcze 
 w grudniu w warszawskim Pogłosie.\n\nTrasa rozpocznie się 10 stycznia w 
 poznańskim klubie Pod Minogą\, a zakończy występem 19 stycznia w łód
 zkim Niebostanie. \n\nSzczegółowy rozkład koncertów:\n- 10.01 Poznań\
 , Pod Minogą ( + Hadal )\n- 11.01 Słupsk\, Motor Rock Pub ( + Hadal )\n-
  12.01 Gdańsk\, Wydział Remontowy ( + Hadal )\n- 16.01 Sosnowiec\, KOMin
  ( + Forge of Clouds )\n- 17.01 Wrocław\, Liverpool ( + Forge of Clouds )
 \n- 19.01 Łódź\, Niebostan ( + Moanaa )\n\nBlack Tundra to zderzenie Sl
 udge'u\, Doomu i Post Metalu\, zderzenie w tempie glacjalnym - miarowo pos
 tępujące i nieuchronne. Zespół powstał w 2016 roku i wylazł na świa
 tło dzienne debiutując w połowie roku 2017. Nadszedł czas na kontynuac
 ję historii w postaci drugiej płyty\, którą Tundra zagra w całości. 
 Tundra gra na scenie nieprzerwanie od powstania. Możecie spodziewać się
  dużej ilości potu i krwi.  \n\nSzukasz topornych riffów i melodii z wp
 ierdolem? Szukasz po prostu wpierdolu? Lubisz YOB\, Neurosis\, Omega Massi
 f czy innego syfu tego typu? Nie ma możliwości\, żebyś pominął ten g
 ig.\n\nhttps://blacktundra.bandcamp.com\n\n[::] znani też jako 4dots to t
 rio grające instrumentalną mieszankę ciężaru\, ambientu\, transu i po
 st-postu\, zamykające swoje dźwiękowe wypowiedzi w 8-15minutowych kompo
 zycjach\, które w swojej rozpiętości zawierają kilka wyznaczników ró
 żnych gatunków muzycznych\, przy czym żadnego klasycznego. Zespół dzi
 elił scenę m.in. z Obscure Sphinx\, Rosk\, Merkabah\, Ketha czy Tides Fr
 om Nebula a także supportował God Is an Astronaut na ich trasie w 2019 r
 oku na koncercie we Wrocławiu. Po dobrze przyjętym „aux::in” w końc
 ówce 2019 r. światło dzienne ujrzy drugi krążek „XIXIX” zarejestr
 owany w Raven Studio pod okiem Andrzeja Dziadka. 4dots zaprezentują w ca
 łości nowe dźwięki z drugiej płyty. Na żywo [::] tworzy potężny mo
 nolit\, od pierwszej do ostatniej nuty.\n\nhttps://4dots.bandcamp.com/albu
 m/xixix - płyta "XIXIX"\nhttps://4dots.bandcamp.com/album/aux-in - płyta
  "aux::in"\nhttps://www.youtube.com/4dotsbandpl\n\nHadal - Najgłębsza cz
 ęść oceanu. Zimno\, ciemno i wrogo. \nFFO: Altar of Plagues\, Neurosis\
 , Entropia\, Oranssi Pazuzu\nBandcamp: https://hadal.bandcamp.com/album/fi
 ve-grades-of-the-abyss\nFacebook: https://www.facebook.com/hadalpl/\nInsta
 gram: https://www.instagram.com/hadalband/\nYoutube: https://www.youtube.c
 om/channel/UC6J18KpkLL-xyzdw6Tv3-5g\n\n20:30 - 21:00 Hadal \n21:20 - 22:10
  4dots\n22:30 - 23:30 Black Tundra\n\nCena: 20zł.
ATTACH;FMTTYPE=image/jpeg:https://night4u.pl/wp-content/uploads/2020/01/11
 4657_image_81374414_1687713191371466_1307382551639228416_o.jpg
CATEGORIES:pomorskie
LOCATION:Motor Rock Pub\, Anny Łajming 3\, Słupsk\, 76-200\, Poland
GEO:54.466001;17.028091
X-APPLE-STRUCTURED-LOCATION;VALUE=URI;X-ADDRESS=Anny Łajming 3\, Słupsk\,
  76-200\, Poland;X-APPLE-RADIUS=100;X-TITLE=Motor Rock Pub:geo:54.466001,1
 7.028091
END:VEVENT
BEGIN:VTIMEZONE
TZID:Europe/Warsaw
X-LIC-LOCATION:Europe/Warsaw
BEGIN:STANDARD
DTSTART:20191027T020000
TZOFFSETFROM:+0200
TZOFFSETTO:+0100
TZNAME:CET
END:STANDARD
END:VTIMEZONE
END:VCALENDAR