BEGIN:VCALENDAR
VERSION:2.0
PRODID:-//wp-events-plugin.com//7.2.3.1//EN
TZID:Europe/Warsaw
X-WR-TIMEZONE:Europe/Warsaw
BEGIN:VEVENT
UID:48399@night4u.pl
DTSTART;TZID=Europe/Warsaw:20200926T200000
DTEND;TZID=Europe/Warsaw:20200926T230000
DTSTAMP:20200504T090635Z
URL:https://night4u.pl/wydarzenia/blaze-bayley-krakow-26-09-klub-zascianek
 /
SUMMARY:Blaze Bayley / Kraków / 26.09 / Klub Zaścianek
DESCRIPTION:Blaze Bayley w Krakowie! Były wokalista Iron Maiden wystąpi 2
 6 września 2020 r. w klubie Zaścianek.\n\nBlaze Bayley w Krakowie! Były
  wokalista Iron Maiden wystąpi 26 września 2020 r. w klubie Zaścianek.\
 nBilety w systemie TicketClub i eBilet dostępne w cenie 70 zł (przedsprz
 edaż).\nAngielski wokalista   Blaze Bayley znany jest przede wszystkim ja
 ko były członek legendarnego zespołu Iron Maiden (1994-1999) do któreg
 o przeszedł z kapeli Wolfsbane (1984-1994). Blaze nagrał z Iron Maiden d
 wie płyty: The X Factor (1995) oraz Virtual XI (1998). Po odejściu z zes
 połu rozpoczął solową karierę. Od 2000 r. nagrał łącznie dziewię
 ć płyt – ostatnie trzy to trylogia: Infinite Entanglement (2016)\, End
 ure and Survive - Infinite Entanglement Part II (2017) oraz The Redemption
  of William Black - Infinite Entanglement Part III (2018).\n\nBilety:\n70 
 zł - przedsprzedaż\n85 zł - w dniu koncertu\n\nDostępne online:\nhttps
 ://ticketclub.pl/koncerty/blaze-bayley-ex-iron-maiden-klub-zascianek-krako
 w-1341/\nhttps://www.ebilet.pl/muzyka/hard-heavy/blaze-bayley/?partner=aca
 demica&amp\;promotion=active\n\nBlaze Bayley (ex-Iron Maiden)\nKlub Zaści
 anek\nKraków\, ul. Rostafińskiego 4\n26.09.2020\n19:00 - thedoors\n20:00
  - start\n\nWięcej o Blaze Bayley:\nhttps://www.blazebayley.net/\nFaceboo
 k:\nhttps://www.facebook.com/officialblazebayley/ \nYouTube:�https://www
 .youtube.com/user/blazebayleyofficial
ATTACH;FMTTYPE=image/jpeg:https://night4u.pl/wp-content/uploads/2020/02/16
 5293_image_87465262_3366515873375177_1856219581828300800_o.jpg
CATEGORIES:małopolskie
LOCATION:Klub Zaścianek\, ul. Rostafińskiego 4\, Kraków\, 30-072\, Polan
 d
GEO:50.068039;19.905487
X-APPLE-STRUCTURED-LOCATION;VALUE=URI;X-ADDRESS=ul. Rostafińskiego 4\, Kra
 ków\, 30-072\, Poland;X-APPLE-RADIUS=100;X-TITLE=Klub Zaścianek:geo:50.0
 68039,19.905487
END:VEVENT
BEGIN:VTIMEZONE
TZID:Europe/Warsaw
X-LIC-LOCATION:Europe/Warsaw
BEGIN:DAYLIGHT
DTSTART:20200329T030000
TZOFFSETFROM:+0100
TZOFFSETTO:+0200
TZNAME:CEST
END:DAYLIGHT
END:VTIMEZONE
END:VCALENDAR