BEGIN:VCALENDAR
VERSION:2.0
PRODID:-//wp-events-plugin.com//7.2.3.1//EN
TZID:Europe/Warsaw
X-WR-TIMEZONE:Europe/Warsaw
BEGIN:VEVENT
UID:45049@night4u.pl
DTSTART;TZID=Europe/Warsaw:20200309T200000
DTEND;TZID=Europe/Warsaw:20200309T233000
DTSTAMP:20200310T174540Z
URL:https://night4u.pl/wydarzenia/bleib-modern-ba%e1%b9%a3nia-i-9-03-i-chm
 ury/
SUMMARY:Bleib Modern + baṣnia I 9.03 I Chmury
DESCRIPTION:☾  ☾  ☾\n\nBleib Modern\nOpen up this seashell and find t
 he sombre\, firm\, and shimmery Bleib Modern\, a music group from Germany 
 playing melancholic post-punk with a touch of wave\, psychedelia\, and kra
 ut. A stoic bass guitar and physical drums\, a sepulchral voice bathing in
  hauntingly handsome guitars: witness it first hand\, for the band is once
  again touring Europe in 2020!\n\n*Work on the fourth album has advanced g
 reatly\; some songs from this upcoming LP will be performed live already.*
 \n\n________________________________________________\nPost punk interpreto
 wany przez Bleib Modern sięga po rejestry tradycyjnej zimnej fali\, melod
 yjność rocka gotyckiego\, jak też eteryczne wzniosłe kompozycje\, a ta
 kże akustyczne i nastrojowe\, dark bluesowe niemal ballady\, które móg
 łby skomponować chociażby Paul Roland. \n\nDla fanów:The Underground Y
 outh\, Soft Kill\, Whispering Sons\, Boy Harsher\, Soviet Soviet\, A Place
  To Bury Strangers\, Kaelan Mikla\, Rendez-Vous\, Ritual Howls\, Motorama\
 , The KVB\, Drab Majesty\, The Soft Moon.\n \n\nsupport: \nbaṣnia to war
 szawski projekt wokalistki i songwriterki Baśni Lipińskiej grający alte
 rnatywną melancholijną muzykę inspirowaną zimną falą\, post punkiem 
 ethereal wave'm i brzmieniami z przełomu lat 80 i 90 wytwórni 4AD. Debiu
 tancki album "No Falling Stars And No Wishes" wyprodukowany przez Waldemar
 a Sorychtę - odpowiedzialnego za brzmienie płyt takich zespołów jak Th
 e Gathering\, Tiamat\, Samael czy Moonspell - ukazał się 19 marca 2019 w
 ydawnictwem Alchera Visions. Zespół\, oprócz Baśni Lipińskiej\, tworz
 ą: Adam Kaliszewski (gitara)\, Łukasz Zaorski-Sikora (bas) i Filip Onufr
 y Jaremko (perkusja).\nFB: https://www.facebook.com/basnia.music/  \nBC: h
 ttps://basnia.bandcamp.com/    \nSPOTI: https://open.spotify.com/album/6XX
 h6pS83gb3QRhZA2Pbfl?si=jExNcx78RXmK2ixbdP1OtA\nYT: https://www.youtube.com
 /channel/UC26GxXGyZx9ZbtBxmFG9fsw\n\n\n\n\n______________________________\
 nstart: 20:30\nbilety:  30/40 pln
ATTACH;FMTTYPE=image/jpeg:https://night4u.pl/wp-content/uploads/2020/01/14
 6165_image_83907095_2881718488532919_3728255990609477632_o.jpg
CATEGORIES:mazowieckie
LOCATION:Klub Hydrozagadka\, 11 listopada 22\, 03-436 Warszawa\, Poland\, P
 raga\, 03-436\, Poland
GEO:52.259283;21.036925
X-APPLE-STRUCTURED-LOCATION;VALUE=URI;X-ADDRESS=11 listopada 22\, 03-436 Wa
 rszawa\, Poland\, Praga\, 03-436\, Poland;X-APPLE-RADIUS=100;X-TITLE=Klub 
 Hydrozagadka:geo:52.259283,21.036925
END:VEVENT
BEGIN:VTIMEZONE
TZID:Europe/Warsaw
X-LIC-LOCATION:Europe/Warsaw
BEGIN:STANDARD
DTSTART:20191027T020000
TZOFFSETFROM:+0200
TZOFFSETTO:+0100
TZNAME:CET
END:STANDARD
END:VTIMEZONE
END:VCALENDAR