BEGIN:VCALENDAR
VERSION:2.0
PRODID:-//wp-events-plugin.com//7.2.3.1//EN
TZID:Europe/Warsaw
X-WR-TIMEZONE:Europe/Warsaw
BEGIN:VEVENT
UID:36589@night4u.pl
DTSTART;TZID=Europe/Warsaw:20191207T190000
DTEND;TZID=Europe/Warsaw:20191207T203000
DTSTAMP:20191206T174236Z
URL:https://night4u.pl/wydarzenia/bloody-mondays-opowiesc-wigilijna/
SUMMARY:Bloody Mondays: Opowieść Wigilijna
DESCRIPTION:Świąteczny czas! Jedni się cieszą inni stresują a Bloody M
 ondays zagrają dla was improwizowany spektakl inspirowany wigilijnymi opo
 wieściami. Podzielimy się wspólnie wspomnieniami ze świąt a potem zad
 zieje się magia improwizacji. Serdecznie zapraszamy! \n\n👓 Kiedy: 7 gr
 udnia 2019\, godz. 19.00\n👣 Gdzie: BARdzo bardzo\, ul. Nowogrodzka 11\n
 🎩 Wstęp: Występ Kapeluszowy - wrzucacie do kapelusza tyle ile chcecie
 \n\nO nas: \n\nBloody Mondays to istniejąca od 2017 roku trupa teatru imp
 rowizowanego. W jej skład wchodzą Paulina Drzastwa\, Krzysztof Kołodzie
 jczyk\, Katarzyna Lalik\, Damian Olczak\, Mateusz Ożyński\, Stanisław 
 Święcicki i Joanna Zielińska.\n\nTworzymy na scenie spektakle bez wcze
 śniej przygotowanego scenariusza. Zarówno nasze postacie\, kwestie dialo
 gowe jak i układy sceniczne istnieją tylko w ulotnej teraźniejszości s
 pektaklu - nigdy się nie powtórzą.\n\nW teatrze improwizowanym widownia
  ma kluczowy wpływ na przebieg przedstawienia\, nie tylko poprzez swoją 
 obecność\, ale też poprzez inspiracje o które proszą ją występując
 y - czasami jest to pojedyncze słowo inspiracji\, a czasami coś więcej.
ATTACH;FMTTYPE=image/jpeg:https://night4u.pl/wp-content/uploads/2019/11/10
 0677_image_77001764_795054027586515_88294692130652160_o.jpg
CATEGORIES:mazowieckie
LOCATION:Klub Hydrozagadka\, 11 listopada 22\, 03-436 Warszawa\, Poland\, P
 raga\, 03-436\, Poland
GEO:52.259283;21.036925
X-APPLE-STRUCTURED-LOCATION;VALUE=URI;X-ADDRESS=11 listopada 22\, 03-436 Wa
 rszawa\, Poland\, Praga\, 03-436\, Poland;X-APPLE-RADIUS=100;X-TITLE=Klub 
 Hydrozagadka:geo:52.259283,21.036925
END:VEVENT
BEGIN:VTIMEZONE
TZID:Europe/Warsaw
X-LIC-LOCATION:Europe/Warsaw
BEGIN:STANDARD
DTSTART:20191027T020000
TZOFFSETFROM:+0200
TZOFFSETTO:+0100
TZNAME:CET
END:STANDARD
END:VTIMEZONE
END:VCALENDAR