BEGIN:VCALENDAR
VERSION:2.0
PRODID:-//wp-events-plugin.com//7.2.3.1//EN
TZID:Europe/Warsaw
X-WR-TIMEZONE:Europe/Warsaw
BEGIN:VEVENT
UID:37271@night4u.pl
DTSTART;TZID=Europe/Warsaw:20191207T200000
DTEND;TZID=Europe/Warsaw:20191207T230000
DTSTAMP:20191206T161210Z
URL:https://night4u.pl/wydarzenia/bluesowa-barborka-z-silver-heads-18/
SUMMARY:Bluesowa Barbórka z Silver Heads 18'
DESCRIPTION:To będzie kolejna Barbórka Bluesowa w A'propos. Tym razem św
 ięto górników obchodzić będziemy z zespołem Silver Heads 18'. Zespó
 ł jak nazwa wskazuj powstał w 2018 roku.Ale nie są to żadni debiutanci
 .To muzycy ze znanego wałbrzyskiej publiczności zespołu Plus 50. Istotn
 ą zmianą jest w składzie bandu\, jest postać wokalisty. Silver Heads 1
 8' postawiło na męski głos. Grają utwory własne(coraz więcej) i cove
 ry(coraz mniej).\n\nWiesław Hermanowicz - vocal\nDariusz Fila - harmonijk
 a\, vocal\nWacław Jonasz - gitara\nJerzy Hic - gitara\nJerzy Borowski - b
 as\nJacek Szabliński - perkusja\n\nGościnnie wystąpi w jednym z setów-
  Beata Kras z zespołu Plus 50\n\nKolejna niezapomniana!Na pewno! Jak zwyk
 le jedno zmartwienie – czy wszyscy się zmieszczą?!\n\nBilety 20zł prz
 edsprzedaż\, 30zł w dniu koncertu.
ATTACH;FMTTYPE=image/jpeg:https://night4u.pl/wp-content/uploads/2019/12/10
 2734_image_78984542_2499472416772478_3046729566467915776_o.jpg
CATEGORIES:dolnośląskie
LOCATION:A PROPOS\, ul.Wieniawskiego 82\, Wałbrzych\, 58-309\, Poland
GEO:50.817263;16.276605
X-APPLE-STRUCTURED-LOCATION;VALUE=URI;X-ADDRESS=ul.Wieniawskiego 82\, Wałb
 rzych\, 58-309\, Poland;X-APPLE-RADIUS=100;X-TITLE=A PROPOS:geo:50.817263,
 16.276605
END:VEVENT
BEGIN:VTIMEZONE
TZID:Europe/Warsaw
X-LIC-LOCATION:Europe/Warsaw
BEGIN:STANDARD
DTSTART:20191027T020000
TZOFFSETFROM:+0200
TZOFFSETTO:+0100
TZNAME:CET
END:STANDARD
END:VTIMEZONE
END:VCALENDAR