BEGIN:VCALENDAR
VERSION:2.0
PRODID:-//wp-events-plugin.com//7.2.3.1//EN
TZID:Europe/Warsaw
X-WR-TIMEZONE:Europe/Warsaw
BEGIN:VEVENT
UID:21005@night4u.pl
DTSTART;TZID=Europe/Warsaw:20190703T200000
DTEND;TZID=Europe/Warsaw:20190703T200000
DTSTAMP:20190704T024547Z
URL:https://night4u.pl/wydarzenia/bo-sroda-to-mala-sobota-lova-lova-bachat
 a-dla-poczatkujacych-13/
SUMMARY:Bo środa to mała sobota //Lova Lova - Bachata dla początkującyc
 h
DESCRIPTION:Środowa Bachata od podstaw! \n\nStrefa FIESTY\n\nLova Lova czy
 li jedyny darmowy kurs bachaty w tym mieście! \nMaria y Radek poprowadzą
  waszą przygodę z tym pięknym i zmysłowym tańcem od samego początku!
  Pierwsze kroki tylko z nimi! \n\nCo drugą środę\, tylko w Muchos! \n\n
 START 20:00 ⏰\n*kurs startuje 20:30!\n*Jeżeli poczujecie że kurs od po
 dstaw to dla was drobnostka\, zapraszamy na środy dla średnio zaawansowa
 nych! \n\nObowiązkowo zabierzcie znajomych! \n\n#CoDziejeSięWMuchosZosta
 jeWMuchos #CocktailBar #ChodzNaCocktail #LovaLova
ATTACH;FMTTYPE=image/jpeg:https://night4u.pl/wp-content/uploads/2019/07/50
 189_image_65506704_2619998884699109_60907347836403712_o.jpg
CATEGORIES:wielkopolskie
LOCATION:muchos\, ul. Nowowiejskiego 13/15\, Poznan\, 61-732\, Poland
GEO:52.410638;16.926715
X-APPLE-STRUCTURED-LOCATION;VALUE=URI;X-ADDRESS=ul. Nowowiejskiego 13/15\, 
 Poznan\, 61-732\, Poland;X-APPLE-RADIUS=100;X-TITLE=muchos:geo:52.410638,1
 6.926715
END:VEVENT
BEGIN:VTIMEZONE
TZID:Europe/Warsaw
X-LIC-LOCATION:Europe/Warsaw
BEGIN:DAYLIGHT
DTSTART:20190331T030000
TZOFFSETFROM:+0100
TZOFFSETTO:+0200
TZNAME:CEST
END:DAYLIGHT
END:VTIMEZONE
END:VCALENDAR