BEGIN:VCALENDAR
VERSION:2.0
PRODID:-//wp-events-plugin.com//7.2.3.1//EN
TZID:Europe/Warsaw
X-WR-TIMEZONE:Europe/Warsaw
BEGIN:VEVENT
UID:21012@night4u.pl
DTSTART;TZID=Europe/Warsaw:20190717T200000
DTEND;TZID=Europe/Warsaw:20190718T010000
DTSTAMP:20190704T024629Z
URL:https://night4u.pl/wydarzenia/bo-sroda-to-mala-sobota-lova-lova-bachat
 a-dla-poczatkujacych-14/
SUMMARY:Bo środa to mała sobota //Lova Lova - Bachata dla początkującyc
 h
DESCRIPTION:Środowa Bachata od podstaw! \n\nCocktail bar \n\nLova Lova czy
 li jedyny darmowy kurs bachaty w tym mieście! \nMaria y Radek poprowadzą
  waszą przygodę z tym pięknym i zmysłowym tańcem od samego początku!
  Pierwsze kroki tylko z nimi! \n\nPyszne autorskie cocktaile naszych barma
 nów serwowane przy rytmach najlepszych hitów lat 80 i 90! Idealne miejsc
 e żeby odpocząć po ciężkim dniu w pracy\, a może nie tylko odpoczą
 ć? Przecież środa to mała sobota! ?\n\nCo drugą środę\, tylko w Muc
 hos! \n\nSTART 20:00 ⏰\n*kurs startuje 20:30! \n\n\nDo zobaczenia!\n\n*J
 eżeli poczujecie że kurs od podstaw to dla was drobnostka\, zapraszamy n
 a środy dla średnio zaawansowanych! \n\nObowiązkowo zabierzcie znajomyc
 h! \n\n#CoDziejeSięWMuchosZostajeWMuchos #CocktailBar #ChodzNaCocktail #L
 ovaLova
ATTACH;FMTTYPE=image/jpeg:https://night4u.pl/wp-content/uploads/2019/07/50
 204_image_65528823_2621179177914413_957943497040592896_o.jpg
CATEGORIES:wielkopolskie
LOCATION:muchos\, ul. Nowowiejskiego 13/15\, Poznan\, 61-732\, Poland
GEO:52.410638;16.926715
X-APPLE-STRUCTURED-LOCATION;VALUE=URI;X-ADDRESS=ul. Nowowiejskiego 13/15\, 
 Poznan\, 61-732\, Poland;X-APPLE-RADIUS=100;X-TITLE=muchos:geo:52.410638,1
 6.926715
END:VEVENT
BEGIN:VTIMEZONE
TZID:Europe/Warsaw
X-LIC-LOCATION:Europe/Warsaw
BEGIN:DAYLIGHT
DTSTART:20190331T030000
TZOFFSETFROM:+0100
TZOFFSETTO:+0200
TZNAME:CEST
END:DAYLIGHT
END:VTIMEZONE
END:VCALENDAR