BEGIN:VCALENDAR
VERSION:2.0
PRODID:-//wp-events-plugin.com//7.2.3.1//EN
TZID:Europe/Warsaw
X-WR-TIMEZONE:Europe/Warsaw
BEGIN:VEVENT
UID:26599@night4u.pl
DTSTART;TZID=Europe/Warsaw:20191019T200000
DTEND;TZID=Europe/Warsaw:20191020T050000
DTSTAMP:20191019T215725Z
URL:https://night4u.pl/wydarzenia/bo-to-zla-kobieta-byla-sobota-w-pewexie/
SUMMARY:Bo to Zła Kobieta była! Sobota w Pewexie!
DESCRIPTION:Bo to Zła Kobieta była! 😀\n\nZapraszamy wszystkich 19 paź
 dziernika 2019 r. na świetną zabawę do Klubu Muzycznego Pewex!  👯 Im
 preza do białego rana gwarantowana!\nNajlepsze hity disco lat 80'\, 90' 2
 000🔥❤️👯\n\n\nZachęcamy wszystkich do zorganizowania urodzin imi
 enin\,w gronie przyjaciół ❤️proponujemy atrakcyjne Pakiety Imieninow
 e\, Urodzinowe oraz pakiety towarzyskie 😊\n\nDodatkowo akcja "Szczęśl
 iwy bilet- wygraj szampana"!\nŚwietne promocje i tańce na barze- czyli w
 szystko co zapowiada świetną imprezę! \n\n\nJeśli chcesz wejść za da
 rmo- zaproś do wydarzenia minimum 100 osób! 🔥\nWrzuć zdjęcie ss na 
 wydarzenie z zaproszonymi gośćmi🔥 \n\n☎️ rezerwacje loży: 501-70
 1-434\nMail: clubpewex@gmail.com \n\n\n#urodziny\n#imieniny\n#Wieczór Pan
 ieński\n#Wieczór kawalerski \n#spotkanie towarzyskie\nZachęcamy do zapo
 znania się z naszą ofertą pakietową ❣️\n\n\n\nGdzie? Klub Muzyczny
  Pewex\,\nNarutowicza 28\nStart: 20:00\nWstęp: 10zł/ osoba\nSelekcja: 21
 +
ATTACH;FMTTYPE=image/jpeg:https://night4u.pl/wp-content/uploads/2019/09/62
 119_image_70037557_2370877066298984_3646401296996499456_n.jpg
CATEGORIES:łódzkie
LOCATION:Klub Muzyczny Pewex\, Łódź\, Poland
GEO:51.77122;19.46136
X-APPLE-STRUCTURED-LOCATION;VALUE=URI;X-ADDRESS=Łódź\, Poland;X-APPLE-RA
 DIUS=100;X-TITLE=Klub Muzyczny Pewex:geo:51.77122,19.46136
END:VEVENT
BEGIN:VTIMEZONE
TZID:Europe/Warsaw
X-LIC-LOCATION:Europe/Warsaw
BEGIN:DAYLIGHT
DTSTART:20190331T030000
TZOFFSETFROM:+0100
TZOFFSETTO:+0200
TZNAME:CEST
END:DAYLIGHT
END:VTIMEZONE
END:VCALENDAR