BEGIN:VCALENDAR
VERSION:2.0
PRODID:-//wp-events-plugin.com//7.2.3.1//EN
TZID:Europe/Warsaw
X-WR-TIMEZONE:Europe/Warsaw
BEGIN:VEVENT
UID:21863@night4u.pl
DTSTART;TZID=Europe/Warsaw:20190721T210000
DTEND;TZID=Europe/Warsaw:20190722T050000
DTSTAMP:20190709T223743Z
URL:https://night4u.pl/wydarzenia/bo-z-dziewczynami-nigdy-nie-wie-oj-nie-w
 ie-sie-2/
SUMMARY:Bo z dziewczynami nigdy nie wie oj nie wie się
DESCRIPTION:Bo z dziewczynami nigdy nie wie oj nie wie się\, \nczy dobrze 
 jest czy może jest może jest już źle\, \nnie będziesz wiedział czy j
 est tak czy tak \ni to jedyny pewny fakt\, jedyny pewny fakt\, \njedyny pe
 wny fakt!!!  ❤️\n\nBaw się z przyjaciółmi na Weselu w Weselu!\n\n
 ⭐️ Zapraszamy wszystkich turystów\, mieszkańców Kaszub\, Trójmiast
 a i nie tylko na WESELE  w klubie Dyskoteka Wesele Łeba!\n\n⭐️ Państ
 wo młodzi już na samym wejściu przywitają gości poczęstunkiem w post
 aci wiejskiego stołu oraz pyszną wódeczką weselną i szampanem!\n\nATR
 AKCJE przygotowane dla Państwa w WESELU to m.in:\nFOTOBUDKA / DJ & WODZIR
 EJ / NAJLEPSZE ZABAWY WESELNE / ORKIESTRA i WIELE INYCH!\n\n⭐️ ⭐ Imp
 rezę poprowadzi DJ & WODZIREJ⭐️ ⭐\n\n❤️ Kultowe oczepiny o godz
 inie 2.00 ❤️\n♥♥♥♥♥♥♥♥♥♥♥♥♥♥♥♥♥♥
 ♥♥♥♥♥♥\nGRAMY od 21.00 do ostatniego gościa!\n▬▬▬▬▬
 ▬▬▬▬▬▬▬▬▬▬▬▬▬▬▬▬▬▬▬▬▬▬\n\nCENY
  BILETÓW:\n[18+] - za okazaniem dokumentu tożsamości\nBilety Już od 10
  zł\n\nRezerwacje miejsc i biletów www.dyskotekiweselne.pl\nTylko u nas 
 Wesela bez koperty i krawatów!\n\nREZERWACJE BILETÓW & STOLIKÓW: +48 79
 1 998 805\n\nNa imprezie obowiązuje wygodny nieformalny strój taki jak d
 la Ciebie jest wygodny - jednak bez elementów sportowych m.in dresów\, c
 zapek itp. Prosimy zostaw\, to w domu lub zabierz na działkę ✌️\n\nA
 DRES: WOJSKA POLSKIEGO\, ŁEBA!
ATTACH;FMTTYPE=image/jpeg:https://night4u.pl/wp-content/uploads/2019/07/51
 817_image_60823169_2103969896569064_9067602424956452864_n.jpg
CATEGORIES:pomorskie
LOCATION:Dyskoteka Wesele Łeba\, Wojska Polskiego\, Łeba\, 84-360\, Polan
 d
GEO:54.762309;17.55529
X-APPLE-STRUCTURED-LOCATION;VALUE=URI;X-ADDRESS=Wojska Polskiego\, Łeba\, 
 84-360\, Poland;X-APPLE-RADIUS=100;X-TITLE=Dyskoteka Wesele Łeba:geo:54.7
 62309,17.55529
END:VEVENT
BEGIN:VTIMEZONE
TZID:Europe/Warsaw
X-LIC-LOCATION:Europe/Warsaw
BEGIN:DAYLIGHT
DTSTART:20190331T030000
TZOFFSETFROM:+0100
TZOFFSETTO:+0200
TZNAME:CEST
END:DAYLIGHT
END:VTIMEZONE
END:VCALENDAR