BEGIN:VCALENDAR
VERSION:2.0
PRODID:-//wp-events-plugin.com//7.2.3.1//EN
TZID:Europe/Warsaw
X-WR-TIMEZONE:Europe/Warsaw
BEGIN:VEVENT
UID:50452@night4u.pl
DTSTART;TZID=Europe/Warsaw:20201127T190000
DTEND;TZID=Europe/Warsaw:20201127T220000
DTSTAMP:20200815T130231Z
URL:https://night4u.pl/wydarzenia/bonson-w-lublinie-27-11-krolu-zloty-tour
 /
SUMMARY:Bonson w Lublinie - 27.11 - KRÓLU ZŁOTY TOUR
DESCRIPTION:DR.INY we współpracy z Agencja The Moon prezentują – 27 li
 stopada w Lublinie\, Bonson z premierowym koncertem na trasie promującej 
 album "KRÓLU ZŁOTY" 🤝\nLiczba biletów bardzo ograniczona!\n\nStart: 
 19:00\nGdzie: Lublin / Dom Kultury\nKiedy: 27.11.2020\nBilety: 40/45/50\nB
 ilet VIP: 150\nWstęp: 18+\n\nBilet VIP oprócz wejścia do klubu bez kole
 jki zawiera plakat “Królu Złoty” z autografem Bonsona\, pamiątkowy 
 bilet oraz DR.INowe skiety i zapalniczkę 🥤 \n\n\nZłoty Król\, to iro
 niczne odwołanie do osobowości Bonsona. Artysta znany jest z dość hula
 szczego trybu życia\, sukcesywnie jednak w jego życiu następuje stabili
 zacja. Stara się opierać pokusom\, mimo to demony często czekają za ro
 giem i nie zawsze udaje się odeprzeć ich atak. "Król się bawi złotem 
 płaci"\, ale czy wszystko złoto co się świeci?\n\nNajnowsze wydawnictw
 o to jego najbardziej nieoczywista produkcja. Bonson nie współpracował 
 jeszcze przy żadnej swojej płycie z tyloma producentami\, co pokazuje sz
 eroki przekrój albumu. Okazję do zapoznania się z materiałem Bonsona b
 ędziecie mieli w 9 miastach na jesiennej trasie koncertowej 🔥\n\n\nBil
 ety dostępne Going.\, empik bilety oraz w salonach Empik.\n\nDo zobaczeni
 a na trasie! 🤘\n\n\nBilety: \n\nhttps://going.pl/bonson-krolu-zloty-kon
 cert-premierowy-lublin-dom-kultury\n \nhttps://empikbilety.pl/wydarzenie/b
 onson-krolu-zloty-koncert-premierowy-lublin-dom-kultury/listopad-2020\n\nR
 egulamin wydarzenia:\nhttps://drive.google.com/file/d/1CthPWhco14TGWblx5N6
 J-EiddfkIcf7E/view?usp=sharing
ATTACH;FMTTYPE=image/jpeg:https://night4u.pl/wp-content/uploads/2020/08/18
 4122_image_116467942_3171922189524096_6504461824957989287_o.jpg
CATEGORIES:lubelskie
LOCATION:Dom Kultury\, ul. Krakowskie Przedmieście 19\, Lublin\, 20-002\, 
 Poland
GEO:51.24787;22.56342
X-APPLE-STRUCTURED-LOCATION;VALUE=URI;X-ADDRESS=ul. Krakowskie Przedmieści
 e 19\, Lublin\, 20-002\, Poland;X-APPLE-RADIUS=100;X-TITLE=Dom Kultury:geo
 :51.24787,22.56342
END:VEVENT
BEGIN:VTIMEZONE
TZID:Europe/Warsaw
X-LIC-LOCATION:Europe/Warsaw
BEGIN:STANDARD
DTSTART:20201025T020000
TZOFFSETFROM:+0200
TZOFFSETTO:+0100
TZNAME:CET
END:STANDARD
END:VTIMEZONE
END:VCALENDAR