BEGIN:VCALENDAR
VERSION:2.0
PRODID:-//wp-events-plugin.com//7.2.3.1//EN
TZID:Europe/Warsaw
X-WR-TIMEZONE:Europe/Warsaw
BEGIN:VEVENT
UID:41072@night4u.pl
DTSTART;TZID=Europe/Warsaw:20200215T200000
DTEND;TZID=Europe/Warsaw:20200215T235900
DTSTAMP:20200331T145933Z
URL:https://night4u.pl/wydarzenia/bonson-x-soulpete-bonsoul-we-wroclawiu-1
 5-02-d-k-luksus/
SUMMARY:Bonson x Soulpete - BonSoul we Wrocławiu // 15.02 // D.K Luksus
DESCRIPTION:Przy ostatniej wizycie BonSoula we Wrocławiu było tak kozacko
 \, że Damian i Piotr postanowili wpaść jeszcze raz! \n\nDuet Bonson i S
 oulpete wracają do Wrocławia z ich najnowszym albumem! Po świetnie przy
 jętym koncercie BonSoula we Wrocławiu\, Damian i Piotr postanowili wpaś
 ć jeszcze raz z wydawnictwem "Restart"\, które ukazało się 12 wrześni
 a nakładem wytwórni Asfalt Records. Zespół zaprezentuje premierowe utw
 ory\, ale nie zabraknie również najlepszych tracków z solowej dyskograf
 ii artystów. Trasa "Restart Tour" obejmuje całą Polskę.\n\nBilety dost
 ępne:\n🏡 Stacjonarnie we wszystkich salonach empik\n📲 Online: \n
 💎 Going. https://goingapp.pl/evt/2191844/bonson-x-soulpete-bonsoul-we-w
 roclawiu-1502-dk-luksus\n💎 empik bilety https://empikbilety.pl/wydarzen
 ie/bonson-x-soulpete-bonsoul-we-wroclawiu-15-02-d-k-luksus-2/luty-2020\n\n
 🔔Miejsce: D.K. Luksus\n🔔Data: 15.02.2020\n🔔Start: 20:00\n\nKoncer
 ty:\n💣 BonSoul ( Bonson x Soulpete )\n💣 Poebao Live Band\n💣 Rewus
  x Szybki\n\n۩ Rezerwacja biletów + bilet kolekcjonerski!\nUwaga! Jeżel
 i nie masz jak wcześniej zakupić biletu na koncert to ta opcja właśnie
  jest dla Ciebie. Płatność oraz odbiór biletu kolekcjonerskiego (w cen
 ie wstęp na imprezę) w dniu koncertu przy wejściu do klubu z dokumentem
  tożsamości do godziny 21:00\, cena biletu 35zł.\nAby zarezerwować bil
 et wyślij wiadomość na adres kontakt@premieraoficjalnie.pl w treści po
 dając swoje imię\, nazwisko oraz miasto.Tytuł wiadomości "REZERWACJA B
 ONSOUL - WROCŁAW"\n\nDo zobaczenia!\n\nWIĘCEJ INFORMACJI WKRÓTCE\n☎
 ️KONTAKT: 501 461 046
ATTACH;FMTTYPE=image/jpeg:https://night4u.pl/wp-content/uploads/2019/12/12
 7572_image_81865835_469679803695712_3671718780586688512_o.jpg
CATEGORIES:dolnośląskie
LOCATION:D.K. Luksus\, Wita Stwosza 16\, Wroclaw\, 50-148\, Poland
GEO:51.10958;17.03678
X-APPLE-STRUCTURED-LOCATION;VALUE=URI;X-ADDRESS=Wita Stwosza 16\, Wroclaw\,
  50-148\, Poland;X-APPLE-RADIUS=100;X-TITLE=D.K. Luksus:geo:51.10958,17.03
 678
END:VEVENT
BEGIN:VTIMEZONE
TZID:Europe/Warsaw
X-LIC-LOCATION:Europe/Warsaw
BEGIN:STANDARD
DTSTART:20191027T020000
TZOFFSETFROM:+0200
TZOFFSETTO:+0100
TZNAME:CET
END:STANDARD
END:VTIMEZONE
END:VCALENDAR