BEGIN:VCALENDAR
VERSION:2.0
PRODID:-//wp-events-plugin.com//7.2.3.1//EN
TZID:Europe/Warsaw
X-WR-TIMEZONE:Europe/Warsaw
BEGIN:VEVENT
UID:31598@night4u.pl
DTSTART;TZID=Europe/Warsaw:20191031T220000
DTEND;TZID=Europe/Warsaw:20191103T050000
DTSTAMP:20191102T091052Z
URL:https://night4u.pl/wydarzenia/boos-booze-halloween-party-vol-2/
SUMMARY:Boos &amp\; Booze (Halloween Party) Vol.2
DESCRIPTION:🧛‍♂️👹Witaj w najlepszej nocy horroru 😈 w Łodzi.
  Ciesz się atmosferą\, muzyką\, występami tanecznymi na żywo\, napoja
 mi i  najlepsza shisha w mieście. Aby dodać więcej do tego\, gość z n
 ajlepszą snajlepszym przebraniem  na Halloween wygra nagrodę .🧟🧟
 ‍♀️\n Nie spóźnij się i zadzwoń pod numer 790-505-757\, aby uzys
 kać więcej informacji i zarezerwować stolik.🖋\n\n🎃🎃🎃🎃
 🎃🎃🎃🎃🎃🎃🎃🎃🎃🎃🎃🎃🎃🎃🎃🎃🎃\n\n"W
 elcome to the best horror night" in Lodz. Enjoy the atmosphere\, music\, l
 ive dance performances\, drinks and the best shisha in town. To add more t
 o this\, the guest with the best sneakiest Halloween outfit will win a pri
 ze\n  Don't be late and call 790-505-757 for more information and to reser
 ve a table.
ATTACH;FMTTYPE=image/jpeg:https://night4u.pl/wp-content/uploads/2019/10/74
 007_image_75069646_1329550890546341_6148115387801141248_o.jpg
CATEGORIES:łódzkie
LOCATION:ShishaClub Sahara\, Piotrkowska 143\, Łódź\, 90-434\, Poland
GEO:51.76082;19.456976
X-APPLE-STRUCTURED-LOCATION;VALUE=URI;X-ADDRESS=Piotrkowska 143\, Łódź\,
  90-434\, Poland;X-APPLE-RADIUS=100;X-TITLE=ShishaClub Sahara:geo:51.76082
 ,19.456976
END:VEVENT
BEGIN:VTIMEZONE
TZID:Europe/Warsaw
X-LIC-LOCATION:Europe/Warsaw
BEGIN:STANDARD
DTSTART:20191027T020000
TZOFFSETFROM:+0200
TZOFFSETTO:+0100
TZNAME:CET
END:STANDARD
END:VTIMEZONE
END:VCALENDAR