BEGIN:VCALENDAR
VERSION:2.0
PRODID:-//wp-events-plugin.com//7.2.3.1//EN
TZID:Europe/Warsaw
X-WR-TIMEZONE:Europe/Warsaw
BEGIN:VEVENT
UID:38679@night4u.pl
DTSTART;TZID=Europe/Warsaw:20191214T220000
DTEND;TZID=Europe/Warsaw:20191215T043000
DTSTAMP:20191214T222416Z
URL:https://night4u.pl/wydarzenia/booyaka-100-drumnbass/
SUMMARY:Booyaka 100% Drum'n'bass
DESCRIPTION:9 impreza z cyklu Booyaka. 100% lubelski skład. 100% drum'n'ba
 ss. \nZapraszamy na ostatni w tym roku balet w naszej ulubionej miejscówc
 e! \n\ndjs:\n\nMIKRO / Shamanagurus /\nCORBAN / Shamanagurus /\nPIETER / B
 assment /\nGTRIX / GTrix /\nMPH / mph dnb /\n\nInfo:\nData: Sobota\, 14 gr
 udnia 2019\nStart: 22:00\nMiejsce: Cafe Lulu\, ul Jasna 7\nWjazd: 5 pln
ATTACH;FMTTYPE=image/jpeg:https://night4u.pl/wp-content/uploads/2019/12/11
 1044_image_78108829_2823381561019322_5199030840629133312_o.jpg
CATEGORIES:lubelskie
LOCATION:Cafe Lulu\, Jasna 7/3\, Lublin\, 20-077\, Poland
GEO:51.244666;22.555802
X-APPLE-STRUCTURED-LOCATION;VALUE=URI;X-ADDRESS=Jasna 7/3\, Lublin\, 20-077
 \, Poland;X-APPLE-RADIUS=100;X-TITLE=Cafe Lulu:geo:51.244666,22.555802
END:VEVENT
BEGIN:VTIMEZONE
TZID:Europe/Warsaw
X-LIC-LOCATION:Europe/Warsaw
BEGIN:STANDARD
DTSTART:20191027T020000
TZOFFSETFROM:+0200
TZOFFSETTO:+0100
TZNAME:CET
END:STANDARD
END:VTIMEZONE
END:VCALENDAR