BEGIN:VCALENDAR
VERSION:2.0
PRODID:-//wp-events-plugin.com//7.2.3.1//EN
TZID:Europe/Warsaw
X-WR-TIMEZONE:Europe/Warsaw
BEGIN:VEVENT
UID:46418@night4u.pl
DTSTART;TZID=Europe/Warsaw:20200221T220000
DTEND;TZID=Europe/Warsaw:20200222T043000
DTSTAMP:20200221T222423Z
URL:https://night4u.pl/wydarzenia/booyaka-100-vinyl/
SUMMARY:Booyaka 100% Vinyl
DESCRIPTION:W zeszłym roku udało nam się zorganizować aż 10 imprez z c
 yklu Booyaka. Liczymy na to\, że rok 2020 zaowocuje w jeszcze większą l
 iczbę imprez w Cafe Lulu!\n\nNa pierwszy ogień idzie plastik. Impreza w 
 100% zagrana z płyt winylowych i kolejny gość: DJ BTV z Puław! \n\nDJs
 :\n\nBTV (Poziom Oz)\nMIKRO (Shamanagurus)\nPIETER (Bassment)\nCORBAN (Sha
 managurus)\nHOSH (Sen-C Rollers)\n\nstart: 22:00\nwjazd: 5 pln
ATTACH;FMTTYPE=image/jpeg:https://night4u.pl/wp-content/uploads/2020/02/15
 2253_image_85175333_2680802908817764_306596279079665664_o.jpg
CATEGORIES:lubelskie
LOCATION:Cafe Lulu\, Jasna 7/3\, Lublin\, 20-077\, Poland
GEO:51.244666;22.555802
X-APPLE-STRUCTURED-LOCATION;VALUE=URI;X-ADDRESS=Jasna 7/3\, Lublin\, 20-077
 \, Poland;X-APPLE-RADIUS=100;X-TITLE=Cafe Lulu:geo:51.244666,22.555802
END:VEVENT
BEGIN:VTIMEZONE
TZID:Europe/Warsaw
X-LIC-LOCATION:Europe/Warsaw
BEGIN:STANDARD
DTSTART:20191027T020000
TZOFFSETFROM:+0200
TZOFFSETTO:+0100
TZNAME:CET
END:STANDARD
END:VTIMEZONE
END:VCALENDAR