BEGIN:VCALENDAR
VERSION:2.0
PRODID:-//wp-events-plugin.com//7.2.3.1//EN
TZID:Europe/Warsaw
X-WR-TIMEZONE:Europe/Warsaw
BEGIN:VEVENT
UID:23029@night4u.pl
DTSTART;TZID=Europe/Warsaw:20190810T220000
DTEND;TZID=Europe/Warsaw:20190811T050000
DTSTAMP:20190724T175844Z
URL:https://night4u.pl/wydarzenia/booyaka/
SUMMARY:Booyaka
DESCRIPTION:BOOYAKA! BOOYAKA! \n\nZapraszamy Was do nowego Lulu na cykl imp
 rez z ambitną muzyką elektroniczną. Na pierwszy ogień gramy 100% drum'
 n'bass\, a serwować go będzie lubelski skład:\n\nMPH / mph dnb /\nGTRIX
  / GTrix /\nPIETER / Bassment / \nCORBAN / Shamanagurus /\nMIKRO / Shamana
 gurus /\n\n\nData: Sobota\, 10 sierpnia 2019\nStart: 22:00\nMiejsce: Cafe 
 Lulu\, ul Jasna 7\nWjazd: 5pln
ATTACH;FMTTYPE=image/jpeg:https://night4u.pl/wp-content/uploads/2019/07/54
 409_image_67416030_2555529294471218_2255126648108089344_o.jpg
CATEGORIES:lubelskie
LOCATION:Cafe Lulu\, Jasna 7/3\, Lublin\, 20-077\, Poland
GEO:51.244666;22.555802
X-APPLE-STRUCTURED-LOCATION;VALUE=URI;X-ADDRESS=Jasna 7/3\, Lublin\, 20-077
 \, Poland;X-APPLE-RADIUS=100;X-TITLE=Cafe Lulu:geo:51.244666,22.555802
END:VEVENT
BEGIN:VTIMEZONE
TZID:Europe/Warsaw
X-LIC-LOCATION:Europe/Warsaw
BEGIN:DAYLIGHT
DTSTART:20190331T030000
TZOFFSETFROM:+0100
TZOFFSETTO:+0200
TZNAME:CEST
END:DAYLIGHT
END:VTIMEZONE
END:VCALENDAR