BEGIN:VCALENDAR
VERSION:2.0
PRODID:-//wp-events-plugin.com//7.2.3.1//EN
TZID:Europe/Warsaw
X-WR-TIMEZONE:Europe/Warsaw
BEGIN:VEVENT
UID:5488@night4u.pl
DTSTART;TZID=Europe/Warsaw:20190209T230000
DTEND;TZID=Europe/Warsaw:20190210T060000
DTSTAMP:20190131T125434Z
URL:https://night4u.pl/wydarzenia/born-to-party-dj-mixtee/
SUMMARY:Born To Party / DJ Mixtee
DESCRIPTION:Przed nami kolejna impreza dla mistrzów nocnych zabaw! \nWszys
 tkie osoby\, które czują\, że imprezowanie jest ich powołaniem proszon
 e są o stawienie się w tą sobotę do klubu level 27. \nTej nocy nasz pa
 rkiet rozgrzeje Dj Mixtee \;)\nNie może Cię zabraknąć!\n\nBorn to part
 y this is special cycle of party for those who really know or want to know
  how looks real parties at level 27 \;) Who already visited us know for su
 re that level 27 is a guarantee of an unforgettable night with best music 
 till sunrise. Join us ♥\nAre you ready ? ♥\n\nMusic: Dj Mixtee\nFB lis
 t free till 00:00 (click "going" till 21:00)\nDress code: Smart Casual\nDo
 or Policy\nEntrance: 20 pln\n\n\n*** Club Cards conditions ***\nMember - f
 ree entrance + 1\nFriends - free entrance + 3\nVIP - free entrance + frien
 ds
ATTACH;FMTTYPE=image/jpeg:https://night4u.pl/wp-content/uploads/2019/01/16
 959_image_51017156_2002308116730821_6200330748327624704_o.jpg
CATEGORIES:mazowieckie
LOCATION:Level 27 Warsaw\, Al. Jerozolimskie 123 A\, Warsaw\, 02-017\, Pola
 nd
GEO:52.22499;20.99128
X-APPLE-STRUCTURED-LOCATION;VALUE=URI;X-ADDRESS=Al. Jerozolimskie 123 A\, W
 arsaw\, 02-017\, Poland;X-APPLE-RADIUS=100;X-TITLE=Level 27 Warsaw:geo:52.
 22499,20.99128
END:VEVENT
BEGIN:VTIMEZONE
TZID:Europe/Warsaw
X-LIC-LOCATION:Europe/Warsaw
BEGIN:STANDARD
DTSTART:20181028T020000
TZOFFSETFROM:+0200
TZOFFSETTO:+0100
TZNAME:CET
END:STANDARD
END:VTIMEZONE
END:VCALENDAR