BEGIN:VCALENDAR
VERSION:2.0
PRODID:-//wp-events-plugin.com//7.2.3.1//EN
TZID:Europe/Warsaw
X-WR-TIMEZONE:Europe/Warsaw
BEGIN:VEVENT
UID:40928@night4u.pl
DTSTART;TZID=Europe/Warsaw:20200321T210000
DTEND;TZID=Europe/Warsaw:20200322T040000
DTSTAMP:20200318T193014Z
URL:https://night4u.pl/wydarzenia/borys-lbd-ii-protokultura-gdansk/
SUMMARY:BORYS LBD II Protokultura - Gdańsk
DESCRIPTION:❌❌❌ Borys LBD w PROTO ❌❌\n\nTwórca hitów z milionam
 i wyświetleń na Youtube❗\n\nZaśpiewa dla Was doskonale znane przeboje
 :\n\nJessica | Andżela | Lady in Red i wiele innych.\n\nBędzie się dzia
 ło 😃💃🕺\n\nBILETY:\nPrzedsprzedaż online:\n15zł\nhttps://goinga
 pp.pl/evt/2202474/borys-lbd-ii-protokultura-gdansk\n\nBilety dostępne ró
 wnież w sieci salonów Empik.\n\nW dnu imprezy: 20zł\n\n21 marca 2020 \n
 PROTOKULTURA\n\nZapraszamy!
ATTACH;FMTTYPE=image/jpeg:https://night4u.pl/wp-content/uploads/2019/12/12
 6889_image_80055241_2938740299490560_56200514651553792_o.jpg
CATEGORIES:pomorskie
LOCATION:Protokultura - Klub Sztuki Alternatywnej\, Ul. Niterów 29B\, Gdan
 sk\, 80-863\, Poland
GEO:54.364798;18.645647
X-APPLE-STRUCTURED-LOCATION;VALUE=URI;X-ADDRESS=Ul. Niterów 29B\, Gdansk\,
  80-863\, Poland;X-APPLE-RADIUS=100;X-TITLE=Protokultura - Klub Sztuki Alt
 ernatywnej:geo:54.364798,18.645647
END:VEVENT
BEGIN:VTIMEZONE
TZID:Europe/Warsaw
X-LIC-LOCATION:Europe/Warsaw
BEGIN:STANDARD
DTSTART:20191027T020000
TZOFFSETFROM:+0200
TZOFFSETTO:+0100
TZNAME:CET
END:STANDARD
END:VTIMEZONE
END:VCALENDAR