BEGIN:VCALENDAR
VERSION:2.0
PRODID:-//wp-events-plugin.com//7.2.3.1//EN
TZID:Europe/Warsaw
X-WR-TIMEZONE:Europe/Warsaw
BEGIN:VEVENT
UID:37528@night4u.pl
DTSTART;TZID=Europe/Warsaw:20191215T170000
DTEND;TZID=Europe/Warsaw:20191215T200000
DTSTAMP:20191214T233313Z
URL:https://night4u.pl/wydarzenia/borys-somerschaf-koncert/
SUMMARY:Borys Somerschaf koncert
DESCRIPTION:Romanse rosyjskie w wykonaniu Borysa Somerschafa\nAkompaniuje -
  Jakub Niedoborek (gitara)\nHades Szeroka 15-12-2019 g. 17.00\nbilety po 4
 0\,- zł\nrezerwacja tel. 607 260 770\nalbo lecw@wp.pl
ATTACH;FMTTYPE=image/jpeg:https://night4u.pl/wp-content/uploads/2019/11/10
 4770_image_75462370_2534676626570164_3704786133230551040_o.jpg
CATEGORIES:lubelskie
LOCATION:Hades Szeroka\, Grodzka 21\, Lublin\, 20-112\, Poland
GEO:51.24958;22.56988
X-APPLE-STRUCTURED-LOCATION;VALUE=URI;X-ADDRESS=Grodzka 21\, Lublin\, 20-11
 2\, Poland;X-APPLE-RADIUS=100;X-TITLE=Hades Szeroka:geo:51.24958,22.56988
END:VEVENT
BEGIN:VTIMEZONE
TZID:Europe/Warsaw
X-LIC-LOCATION:Europe/Warsaw
BEGIN:STANDARD
DTSTART:20191027T020000
TZOFFSETFROM:+0200
TZOFFSETTO:+0100
TZNAME:CET
END:STANDARD
END:VTIMEZONE
END:VCALENDAR