BEGIN:VCALENDAR
VERSION:2.0
PRODID:-//wp-events-plugin.com//7.2.3.1//EN
TZID:Europe/Warsaw
X-WR-TIMEZONE:Europe/Warsaw
BEGIN:VEVENT
UID:19813@night4u.pl
DTSTART;TZID=Europe/Warsaw:20190619T220000
DTEND;TZID=Europe/Warsaw:20190620T050000
DTSTAMP:20190619T193725Z
URL:https://night4u.pl/wydarzenia/boskie-body-lista-fb-free-do-2300-3/
SUMMARY:Boskie BODY // Lista Fb Free Do 23:00
DESCRIPTION:LISTA FB WCHODZI FREE DO 23:00! \nWYSTARCZY KLIKNĄĆ "WEZMĘ U
 DZIAŁ"\nLISTĘ ZAMYKAMY O 19:00!\n\nCzwartek wolny\, więc odpinamy ♥\n
 \n===========================================\nO parkiety zadbają ze star
 annością :\nHeaven: KARAOKE\nHell: DJ SKADI\n===========================
 ===================\nStart: 22:00\nWstęp: 10 zł\n\nLISTA FB WCHODZI FREE
  DO 23:00! \nWYSTARCZY KLIKNĄĆ "WEZMĘ UDZIAŁ"\nLISTĘ ZAMYKAMY O 19:00
 !
ATTACH;FMTTYPE=image/jpeg:https://night4u.pl/wp-content/uploads/2019/06/47
 705_image_64453519_2300097276930771_7397410774504701952_o.jpg
CATEGORIES:pomorskie
LOCATION:HAH Sopot\, Aleja Franciszka Mamuszki 21 (obok wejścia nr 13 na p
 lażę)\, Sopot\, 81-712\, Poland
GEO:54.453133;18.563739
X-APPLE-STRUCTURED-LOCATION;VALUE=URI;X-ADDRESS=Aleja Franciszka Mamuszki 2
 1 (obok wejścia nr 13 na plażę)\, Sopot\, 81-712\, Poland;X-APPLE-RADIU
 S=100;X-TITLE=HAH Sopot:geo:54.453133,18.563739
END:VEVENT
BEGIN:VTIMEZONE
TZID:Europe/Warsaw
X-LIC-LOCATION:Europe/Warsaw
BEGIN:DAYLIGHT
DTSTART:20190331T030000
TZOFFSETFROM:+0100
TZOFFSETTO:+0200
TZNAME:CEST
END:DAYLIGHT
END:VTIMEZONE
END:VCALENDAR