BEGIN:VCALENDAR
VERSION:2.0
PRODID:-//wp-events-plugin.com//7.2.3.1//EN
TZID:Europe/Warsaw
X-WR-TIMEZONE:Europe/Warsaw
BEGIN:VEVENT
UID:26246@night4u.pl
DTSTART;TZID=Europe/Warsaw:20191207T180000
DTEND;TZID=Europe/Warsaw:20191207T210000
DTSTAMP:20191207T191101Z
URL:https://night4u.pl/wydarzenia/bracia-figo-fagot-07-12-2019-rzeszow-pod
 -palma/
SUMMARY:Bracia Figo Fagot /07.12.2019/ Rzeszów- Pod Palmą
DESCRIPTION:7 Grudnia 2019 (Sobota)\nPod Palmą\, ul. Cicha 4a\, Rzeszów\n
 \nOtwarcie Klubu 18:00\nStart Koncertu 19:00\nBilety 40/50 PLN\n\nBILETY w
  cenie 40 PLN w #przedsprzedaży do nabycia:\n► www.ticketmaster.pl\nPun
 kty sprzedaży stacjonarnej:\n✔ #MediaMarkt:\n✶Rzeszów\, ul. Rejtana 
 36\n✔ #Empik:\n✶Rzeszów\, Al. Piłsudskiego 44 (Galeria Rzeszów)\n
 ✶Rzeszów\, ul. Płk. Leopolda Lisa-Kuli 19 (Galeria Graffica)\n✶Rzesz
 ów\, Al. Kopisto 1 (Millenium Hall)\n► www.kupbilecik.pl\nPunkty sprzed
 aży stacjonarnej:\n✶Rzeszów\, ul. Dąbrowskiego 17 (Sklep Muzyczny Rif
 f)\n✶Rzeszów\, ul. Pigonia 8 (Księgarnia PWN)\n► Na stronie klubu:\n
 http://palma.rzeszow.pl/zamow/bracia-figo-fagot\n\nNa stronie danego wydar
 zenia na samym dole jest link "zamów bilet":\n►Klikamy "zamów bilet":\
 n►Wypełniamy dane.\n►Na maila przychodzi info z numerem konta.\n►P
 łacimy przelewem za określona liczbę sztuk.\n►Drukujemy potwierdzenie
  przelewu i przynosimy je w dniu koncertu/imprezy na bramkę.\n►Za okaza
 niem potwierdzenia wpłaty wchodzimy do klubu.\n►Zerowa kwota (przy ceni
 e biletu w zakładce zamów bilet) oznacza że bilety nie są już sprzeda
 ne przez stronę internetową!\n\nBracia Figo Fagot wracają do Rzeszowa! 
 7 grudnia duet ponownie wystąpi w naszym klubie. Oprócz takich hitów ja
 k m.in. „Bożenka”\, „Pisarz Miłości”\, czy „Ooooo kończy si
 ę już noc”\, publiczność zgromadzona w Klubie Pod Palmą usłyszy r
 ównież materiał z najnowszej płyty formacji! \n\nZespół Bracia Figo 
 Fagot powstał we wrześniu 2010 roku na potrzeby serialu Kaliber 200 Volt
 \, emitowanego w jednej z telewizji muzycznych i jest realną kontynuacją
  serialowych postaci tworzących wysmakowane disco polo z elementami humor
 ystycznej ironii. Tworzą go „Figo - Fabian Barłoś“\, czyli Piotr Po
 łać (wokal\, teksty) oraz „Fagot - Szymon Filip Barłoś“\, czyli Ba
 rtosz Walaszek (keyboard\, wokal\, teksty).\n\n21 maja 2012 roku nakładem
  S.P. Records ukazała się debiutancka płyta zespołu\, zatytułowana Na
  Bogatości. Album zawierał utwory znane z serialu Kaliber 200 Volt w now
 ych aranżacjach\, a także premierowe kompozycje. Płyta jeszcze tydzień
  przed premierą znalazła się na pierwszym miejscu przedsprzedaży EMPIK
 .com w rankingu TOP 50. Singlem promującym wydawnictwo był utwór Bożen
 ka\, do którego teledysk obejrzało już ponad 20 milionów użytkownikó
 w kanału Youtube. \n\n5 października 2013 na sklepowych półkach pojawi
 ł się drugi krążek kapeli\, zatytułowany Eleganckie Chłopaki\, na kt
 órym gościnnie wystąpił Czesław Mozil. Album\, podobnie jak jego popr
 zednik\, przypadł do gustu publiczności\, która wypełniała po brzegi 
 każdą salę\, w której grali Bracia Figo Fagot. \n\nTrzeci studyjny alb
 um braterskiego duetu\, Discochłosta\, wydany został jesienią 2014 roku
 . Krytycy nie pozostawili na nim suchej nitki\, ale opinie fanów zespołu
  oraz atmosfera na koncertach świadczą o tym\, że Bracia Figo Fagot jes
 zcze długo ze sceny nie zejdą. \nW 2015 roku zespół nie próżnował i
  wydał kilka nowych singli - Polska\, Trzech króli\, Lato i Morze czy Dz
 iewczyna zawistna. Utwory te znalazły się na płycie Disco Polo\, która
  została wydana jesienią 2016. Wszystkie cztery albumy formacji zyskały
  status złotej płyty.\n\nSPONSOR GŁÓWNY - BROWAR PERŁA 🖤
ATTACH;FMTTYPE=image/jpeg:https://night4u.pl/wp-content/uploads/2019/11/61
 322_image_76640129_2661363360576571_8170210008215060480_o.jpg
CATEGORIES:podkarpackie
LOCATION:Pod Palmą\, Cicha4a\, Rzeszów\, 35-326\, Poland
GEO:50.01652;22.00478
X-APPLE-STRUCTURED-LOCATION;VALUE=URI;X-ADDRESS=Cicha4a\, Rzeszów\, 35-326
 \, Poland;X-APPLE-RADIUS=100;X-TITLE=Pod Palmą:geo:50.01652,22.00478
END:VEVENT
BEGIN:VTIMEZONE
TZID:Europe/Warsaw
X-LIC-LOCATION:Europe/Warsaw
BEGIN:STANDARD
DTSTART:20191027T020000
TZOFFSETFROM:+0200
TZOFFSETTO:+0100
TZNAME:CET
END:STANDARD
END:VTIMEZONE
END:VCALENDAR