BEGIN:VCALENDAR
VERSION:2.0
PRODID:-//wp-events-plugin.com//7.2.3.1//EN
TZID:Europe/Warsaw
X-WR-TIMEZONE:Europe/Warsaw
BEGIN:VEVENT
UID:51091@night4u.pl
DTSTART;TZID=Europe/Warsaw:20211008T203000
DTEND;TZID=Europe/Warsaw:20211009T010000
DTSTAMP:20210908T144737Z
URL:https://night4u.pl/wydarzenia/bracia-figo-fagot-gdansk-bunkier-3/
SUMMARY:Bracia Figo Fagot / Gdańsk - Bunkier
DESCRIPTION:Po takiej przerwie\, wspólne darcie mordy i śpiew do "Pisarza
  Miłości"\, czy "Bożenki"\, będzie euforią szczęścia. Zapraszamy ws
 zystkich na koncert polo w rytmie disco!\n\nPo koncertach zapraszamy na ta
 neczne afterparty na dolnych piętrach (nie jest wymagany bilet na koncert
 ).\n\n——————————————————————
 ————\n\nBILETY:\nPrzedsprzedaż - 60\nW dniu koncertu - 70\n\n\nDo
  nabycia:\n→ ON LINE Going.\nhttps://goingapp.pl/wydarzenie/bracia-figo-
 fagot-gdansk-bunkier-2/pazdziernik-2021\n\nhttp://facebook.com/Bunkierclub
 \nul.Olejarna 3\, \n\n—————————————————
 —————————\n\nZespół Bracia Figo Fagot powstał we wrze
 śniu 2010 roku na potrzeby serialu Kaliber 200 Volt\, emitowanego w jedne
 j z telewizji muzycznych i jest realną kontynuacją serialowych postaci t
 worzących wysmakowane disco polo z elementami humorystycznej ironii. Twor
 zą go „Figo - Fabian Barłoś“\, czyli Piotr Połać (wokal\, teksty)
   oraz „Fagot - Szymon Filip Barłoś“\, czyli Bartosz Walaszek (keybo
 ard\, wokal\, teksty).\n\n21 maja 2012 roku nakładem S.P. Records ukazał
 a się debiutancka płyta zespołu\, zatytułowana Na Bogatości. Album za
 wierał utwory znane z serialu Kaliber 200 Volt w nowych aranżacjach\, a 
 także premierowe kompozycje. Płyta jeszcze tydzień przed premierą znal
 azła się na pierwszym miejscu przedsprzedaży EMPIK.com w rankingu TOP 5
 0. Singlem promującym wydawnictwo był utwór Bożenka\, do którego tele
 dysk obejrzało już ponad 20 milionów użytkowników kanału Youtube. \n
 \n5 października 2013 na sklepowych półkach pojawił się drugi krąże
 k kapeli\, zatytułowany Eleganckie Chłopaki\, na którym gościnnie wyst
 ąpił Czesław Mozil. Album\, podobnie jak jego poprzednik\, przypadł do
  gustu publiczości\, która wypełniała po brzegi każdą salę\, w któ
 rej grali Bracia Figo Fagot. \n\nTrzeci studyjny album braterskiego duetu\
 , Discochłosta\, wydany został jesienią 2014 roku. Krytycy nie pozostaw
 ili na nim suchej nitki\, ale opinie fanów zespołu oraz atmosfera na kon
 certach świadczą o tym\, że Bracia Figo Fagot jeszcze długo ze sceny n
 ie zejdą. \n\nW 2015 roku zespół nie próżnował i wydał kilka nowych
  singli -  Polska\, Trzech króli\, Lato i Morze czy Dziewczyna zawistna. 
 Utwory te znalazły się na płycie Disco Polo\, która została wydana je
 sienią 2016. Wszystkie cztery albumy formacji zyskały status złotej pł
 yty. \n\n- - -\n\nZapraszamy!
ATTACH;FMTTYPE=image/jpeg:https://night4u.pl/wp-content/uploads/2021/08/18
 6389_image_227528647_4581992098499944_907351044657462667_n.jpg
CATEGORIES:pomorskie
LOCATION:Bunkier\, Olejarna 3\, Gdansk\, 80-843\, Poland
GEO:54.35446;18.65466
X-APPLE-STRUCTURED-LOCATION;VALUE=URI;X-ADDRESS=Olejarna 3\, Gdansk\, 80-84
 3\, Poland;X-APPLE-RADIUS=100;X-TITLE=Bunkier:geo:54.35446,18.65466
END:VEVENT
BEGIN:VTIMEZONE
TZID:Europe/Warsaw
X-LIC-LOCATION:Europe/Warsaw
BEGIN:DAYLIGHT
DTSTART:20210328T030000
TZOFFSETFROM:+0100
TZOFFSETTO:+0200
TZNAME:CEST
END:DAYLIGHT
END:VTIMEZONE
END:VCALENDAR