BEGIN:VCALENDAR
VERSION:2.0
PRODID:-//wp-events-plugin.com//7.2.3.1//EN
TZID:Europe/Warsaw
X-WR-TIMEZONE:Europe/Warsaw
BEGIN:VEVENT
UID:26816@night4u.pl
DTSTART;TZID=Europe/Warsaw:20190906T230000
DTEND;TZID=Europe/Warsaw:20190906T230000
DTSTAMP:20190906T185203Z
URL:https://night4u.pl/wydarzenia/brainwash-reborn/
SUMMARY:Brainwash - Reborn
DESCRIPTION:Czołem Brainwashowicze !! \n\nPo raz pierwszy mamy przyjemnoś
 ć zaprosić Was na imprezę do Elefunku ?\n\nMamy nadzieje\, że tak cho
 ć Brainwash rodzi się w nowym miejscu to Wy po staremu wpadniecie potupa
 ć razem z nami :)\n\nCo zagramy? - już możemy Wam zdradzić ? będą to
  #edm\, #trance i #psytrance \n\nKto zagra? - Trzej Amigos: LOKI\, SANTO &
 AKSEN???\n\nKażdy z nich doczekał się osobnego posta w dyskusji więc s
 ami zerknijcie ?\n\nBramy otwieramy już o 21:30\n\nWstęp: do 23 - 10 pln
 \, po 23 - 15 pln\n\nDo zobaczenia 6.09 ???
ATTACH;FMTTYPE=image/jpeg:https://night4u.pl/wp-content/uploads/2019/09/62
 536_image_69589012_2464206967005746_4050730780962324480_n.jpg
CATEGORIES:zachodniopomorskie
LOCATION:Elefunk The Club\, pl. Żołnierza Polskiego 2\, Szczecin\, 70-551
 \, Poland
GEO:53.42819;14.55416
X-APPLE-STRUCTURED-LOCATION;VALUE=URI;X-ADDRESS=pl. Żołnierza Polskiego 2
 \, Szczecin\, 70-551\, Poland;X-APPLE-RADIUS=100;X-TITLE=Elefunk The Club:
 geo:53.42819,14.55416
END:VEVENT
BEGIN:VTIMEZONE
TZID:Europe/Warsaw
X-LIC-LOCATION:Europe/Warsaw
BEGIN:DAYLIGHT
DTSTART:20190331T030000
TZOFFSETFROM:+0100
TZOFFSETTO:+0200
TZNAME:CEST
END:DAYLIGHT
END:VTIMEZONE
END:VCALENDAR