BEGIN:VCALENDAR
VERSION:2.0
PRODID:-//wp-events-plugin.com//7.2.3.1//EN
TZID:Europe/Warsaw
X-WR-TIMEZONE:Europe/Warsaw
BEGIN:VEVENT
UID:6416@night4u.pl
DTSTART;TZID=Europe/Warsaw:20190209T220000
DTEND;TZID=Europe/Warsaw:20190210T043000
DTSTAMP:20190414T211632Z
URL:https://night4u.pl/wydarzenia/brave-nitro-club-nysa-9-02-2019/
SUMMARY:Brave - Nitro Club Nysa | 9.02.2019
DESCRIPTION:Już w SOBOTĘ zapraszamy na występ ?  Brave ???\n\nBrave to D
 J i producent pochodzący z Polski. Jego przygoda z muzyką trwa od wczesn
 ych lat dzieciństwa. od 2011 roku aktywnie działa jako producent. Artyst
 a/DJ specjalizuje się w muzyce tanecznej. Jego pierwszy singiel jest odwa
 żną próbą zmierzenia się z z przebojową piosenką Steviego Wondera 
 „I Just Called To Say I Love You” która aktualnie podbija wszystkie p
 laylisty radiowe oraz klubowe w Polsce. Utwór został wydany w wytwórni 
 C-BooLa czyli C-Wave Records. Kolejny hit\, który ukazał się początkie
 m grudnia 2018r. to również wszystkim znane "Flames of Love" .\n\nBrave 
 - I Just Called To Say I Love You\n▶️ \n\nBrave - Flames Of Love\n▶
 ️ https://youtu.be/kGIlxeIBv5U\n\n\nPremierowo utwór „I Just Called T
 o Say I Love You” można było usłyszeć w - RMF FM\, RADIO ESKA\, RMF 
 MAXXX. Aktualnie ponad 40 radiostacji w całej Polsce odtwarza ten singiel
  po kilka razy dziennie.\n\n- 3 MIEJSCE RMF FM : POP LISTA (ponad 150 razy
  emisji) \n- 2 MIEJSCE RMF MAXXX : HOP BĘC \n- 1 MIEJSCE RADIO FAMA (Kiel
 ce\, Słupsk\, Wołomin\, Tomaszów Maz.) \n- 1 MIEJSCE MUZYCZNE RADIO (Wr
 ocław\, Jelenia Góra\, Wałbrzych\, Legnica) \n- 3 MIEJSCE ITUNES TOP 10
 0 POLSKA \n- 7 MIEJSCE NAJCZĘŚCIEJ GRANYCH UTWORÓW W RADIU (ZPAV AIRPLA
 Y RADIO) \n- 7 MIEJSCE SHAZAM TOP 100 POLSKA \n- 10 MIEJSCE RADIO ESKA : G
 ORĄCA 20 \n- 1 MIEJSCE TOP 50 POLISH DANCE CHART DJ\n\nSTART 22:00❗\nDO
 ŁĄCZAJCIE DO WYDARZENIA\, UDOSTĘPNIAJCIE I ZAPRASZAJCIE ZNAJOMYCH ‼
 ️
ATTACH;FMTTYPE=image/jpeg:https://night4u.pl/wp-content/uploads/2019/02/18
 946_image_51330691_2051401918248128_8313520886355329024_o.jpg
CATEGORIES:opolskie
LOCATION:Nitro Club Nysa\, Nysa\, Poland
GEO:50.480313;17.339196
X-APPLE-STRUCTURED-LOCATION;VALUE=URI;X-ADDRESS=Nysa\, Poland;X-APPLE-RADIU
 S=100;X-TITLE=Nitro Club Nysa:geo:50.480313,17.339196
END:VEVENT
BEGIN:VTIMEZONE
TZID:Europe/Warsaw
X-LIC-LOCATION:Europe/Warsaw
BEGIN:STANDARD
DTSTART:20181028T020000
TZOFFSETFROM:+0200
TZOFFSETTO:+0100
TZNAME:CET
END:STANDARD
END:VTIMEZONE
END:VCALENDAR