BEGIN:VCALENDAR
VERSION:2.0
PRODID:-//wp-events-plugin.com//7.2.3.1//EN
TZID:Europe/Warsaw
X-WR-TIMEZONE:Europe/Warsaw
BEGIN:VEVENT
UID:14179@night4u.pl
DTSTART;TZID=Europe/Warsaw:20190510T200000
DTEND;TZID=Europe/Warsaw:20190511T030000
DTSTAMP:20190429T194945Z
URL:https://night4u.pl/wydarzenia/brave-warszawa-2/
SUMMARY:Brave | Warszawa
DESCRIPTION:Jego cover "I just called to say I love you" pokrył się złot
 em\, które odbierał na naszej scenie\, dlatego z przyjemnością ogłasz
 amy jego powrót do Hulakula! Brave ponownie zagra dla Was już w piątek 
 10. maja! Nie zabraknie takich hitów jak "I'm done" czy "Flames of love"\
 , które podbijają radiowe listy przebojów!\n\nBrave to DJ i producent p
 ochodzący z Polski. Jego przygoda z muzyką trwa od wczesnych lat dzieci
 ństwa. od 2011 roku aktywnie działa jako producent. Artysta/DJ specjaliz
 uje się w muzyce tanecznej. Jego pierwszy singiel jest odważną próbą 
 zmierzenia się z z przebojową piosenką Steviego Wondera „I Just Calle
 d To Say I Love You” która podbiła wszystkie playlisty radiowe oraz kl
 ubowe w Polsce. Utwór został wydany w wytwórni C-BooLa czyli C-Wave Rec
 ords.\n???\nI just called to say I love you ➡ https://youtu.be/JCLYewUhP
 ns\nI'm done ➡ https://youtu.be/otHIdjP7vjo\n\n_______________________\n
 Informacje organizacyjne:\nData: 10/5/2019\nStart imprezy: 20:00 | DjMaxT\
 nGwiazdy wieczoru: 23:30\nDruga sala: disco polo | dj Vazz\nWstęp 18+\nBi
 let: 15 zł \nDarmowy wstęp: \n- osoby obchodzące w tym dniu urodziny lu
 b imieniny\,\n- posiadacze kart VIP Cashback Hulakula.\n\n\n\nW celu zapew
 nienia gościom klubu bezpieczeństwa oraz komfortu zabawy w lokalu obowi
 ązuje selekcja\, która dotyczy to również osób umieszczonych na lista
 ch gości\, posiadających ogólnodostępne zaproszenia lub wcześniejszą
  rezerwację loży w klubie\, wykupiony bilet lub kartę VIP Cashback Hula
 kula.
ATTACH;FMTTYPE=image/jpeg:https://night4u.pl/wp-content/uploads/2019/04/35
 465_image_58570733_10158307693509128_4469075297265778688_o.jpg
CATEGORIES:mazowieckie
LOCATION:Hulakula Rozrywkowe Centrum Miasta\, ul. Jagiellońska 82b\, Warsa
 w\, 03-301\, Poland
GEO:52.273342;21.017125
X-APPLE-STRUCTURED-LOCATION;VALUE=URI;X-ADDRESS=ul. Jagiellońska 82b\, War
 saw\, 03-301\, Poland;X-APPLE-RADIUS=100;X-TITLE=Hulakula Rozrywkowe Centr
 um Miasta:geo:52.273342,21.017125
END:VEVENT
BEGIN:VTIMEZONE
TZID:Europe/Warsaw
X-LIC-LOCATION:Europe/Warsaw
BEGIN:DAYLIGHT
DTSTART:20190331T030000
TZOFFSETFROM:+0100
TZOFFSETTO:+0200
TZNAME:CEST
END:DAYLIGHT
END:VTIMEZONE
END:VCALENDAR