BEGIN:VCALENDAR
VERSION:2.0
PRODID:-//wp-events-plugin.com//7.2.3.1//EN
TZID:Europe/Warsaw
X-WR-TIMEZONE:Europe/Warsaw
BEGIN:VEVENT
UID:3719@night4u.pl
DTSTART;TZID=Europe/Warsaw:20190213T203000
DTEND;TZID=Europe/Warsaw:20190213T233000
DTSTAMP:20190414T211613Z
URL:https://night4u.pl/wydarzenia/brom-spontaneous-live-series-2019-vol-1/
SUMMARY:BROM - Spontaneous Live Series 2019\, vol. 1
DESCRIPTION:BROM – Spontaneous Live Series Vol. 1\n\nPierwsza edycja nowe
 j serii koncertowej\, organizowanej przez Dragon Social Club i Trybunę Mu
 zyki Spontanicznej. Zapraszamy na niezwykły koncert moskiewskiego kwartet
 u BROM. Grupa\, cytując samych muzyków\, gatunkowo mieści się w czymś
 \, co można określić jako... “explosive mixture of jazz\, punk and fr
 ee improvised music”.\n\nDmitry Lapshin - bass\nAnton Ponomarev - saxoph
 one\nYaroslav Kurilo - drums\nFelix Mikensky - electronics\n\nBROM od pona
 d 10 lat eksperymentuje z przeróżnymi idiomami muzycznymi\, zastanawiaj
 ąc się nad formą i wprowadzaniem do niej nowych treści. Łagodnie wpro
 wadzając słuchacza do świątyni jazzu\, następnie uderza go poszarpany
 mi riffami i zanurza jego głowę w szumie. Obecny skład stanowi „elekt
 ryczny” rozdział w historii zespołu\, szlifuje stalowe zęby i utrzymu
 je wibrującą improwizację na krótkiej smyczy.\n\nBROM for more than 10
  years has been experimenting with\nmusical idioms\, reflecting on the for
 m and putting inside the new content. Gentlyaccompanying the listener to t
 he jazzy entrance hall\, Brom then punches him with jagged riffs and dips 
 his head into the noise pot. Current lineup establishes the electric chapt
 er in the band’s history\, grinding the steel teeth and keeping the wigg
 ling improvisation on a short leash.\n\nNajnowsza płyta kwartetu nosi tyt
 uł "Sunstroke"\, wydana przez znany austriacki label Trost.\n\n"This musi
 c kicks serious ass" (c) Mats-olof Gustafsson\n\nhttps://trostrecords.band
 camp.com/album/sunstroke\nhttps://brom.bandcamp.com\n\nhttps://www.faceboo
 k.com/brom.band/\n\n\nYouTube videos:\n\n\n\n\n
ATTACH;FMTTYPE=image/jpeg:https://night4u.pl/wp-content/uploads/2019/01/11
 651_image_49206602_2187281031317121_5592797449530900480_o.jpg
CATEGORIES:wielkopolskie
LOCATION:Dragon Social Club\, ul.Zamkowa 3\, Poznan\, 61-768\, Poland
GEO:52.409327;16.932084
X-APPLE-STRUCTURED-LOCATION;VALUE=URI;X-ADDRESS=ul.Zamkowa 3\, Poznan\, 61-
 768\, Poland;X-APPLE-RADIUS=100;X-TITLE=Dragon Social Club:geo:52.409327,1
 6.932084
END:VEVENT
BEGIN:VTIMEZONE
TZID:Europe/Warsaw
X-LIC-LOCATION:Europe/Warsaw
BEGIN:STANDARD
DTSTART:20181028T020000
TZOFFSETFROM:+0200
TZOFFSETTO:+0100
TZNAME:CET
END:STANDARD
END:VTIMEZONE
END:VCALENDAR