BEGIN:VCALENDAR
VERSION:2.0
PRODID:-//wp-events-plugin.com//7.2.3.1//EN
TZID:Europe/Warsaw
X-WR-TIMEZONE:Europe/Warsaw
BEGIN:VEVENT
UID:10081@night4u.pl
DTSTART;TZID=Europe/Warsaw:20190319T200000
DTEND;TZID=Europe/Warsaw:20190319T220000
DTSTAMP:20190316T195901Z
URL:https://night4u.pl/wydarzenia/bruneci-i-blondynki-impro/
SUMMARY:Bruneci i Blondynki - Impro!
DESCRIPTION:Legendarny Jan Kiepura śpiewał kiedyś o blondynkach\, brunet
 kach i wszystkich innych dziewczynkach\, które całować chciał. Prawie 
 85 lat później na scenę wchodzimy my\, Bruneci i Blondynki. I będziemy
  improwizować. \n\nPewnie zastanawiacie się jaki związek jest pomiędzy
  jednym\, a drugim? \n\nOtóż żaden.\n\nAle widowisko wyśmienite i wpa
 ść naprawdę warto.\n\nCzym jest improwizacja teatralna/sceniczna/komedi
 owa/kabaretowa? Tworzeniem czegoś z niczego\, spektakularną wędrówką 
 w nieznane\, zwycięstwem umysłu nad materią\, ale przede wszystkim inte
 raktywnym widowiskiem\, w którym to publiczność ustala zasady\, a impro
 wizatorzy oddają się bezkresnej radości tworzenia. Efektem jest występ
 \, który powstaje na poczekaniu i bawi\, wzrusza\, zachwyca! Nie ma scena
 riusza\, jest tylko tu i teraz\, Wy i my\, śmiech i łzy!\n\nWystąpi dla
  Was nietuzinkowy kwartet improwizacyjny\, łączący w sobie wszystko\, c
 o pozytywne\, błyskotliwe i warte uwagi. Nie wiemy co się wydarzy\, ale 
 wiemy\, że będzie to jazda bez trzymanki!\n\nWystąpią dla Was:\n\nJuli
 a Sklenarska (Młode Impro)\nKarolina Andruszkiewicz\nRafał Kaczmarski\nA
 rkadiusz "Pan" Pawłowski (Kamerowani\, Kabaret Pod Napięciem)  \n\nPrzyj
 dź na występ\, rzuć sugestią i zobacz\, jak na jej podstawie tworzy si
 ę coś niesamowitego. Do zobaczenia! :)\n\nWspółorganizatorem wydarzeni
 a jest marka Marmel Events.\n\n---\n\nCo? Improwizacje Komediowe!\nGdzie? 
 Bunkier\nKiedy? 19.03.2019\, 20.00\nZa ile? 10 zł (przedsprzedaż interne
 towa) i 15 zł (na miejscu\, przed wejściem)\n\nLink do sprzedaży intern
 etowej - https://www.kupbilecik.pl/impreza-35785-bruneci.i.blondynki.gdans
 k.html
ATTACH;FMTTYPE=image/jpeg:https://night4u.pl/wp-content/uploads/2019/03/26
 660_image_53285536_2168870883193103_3849695843011526656_o.jpg
CATEGORIES:pomorskie
LOCATION:Bunkier\, Olejarna 3\, Gdansk\, 80-843\, Poland
GEO:54.35446;18.65466
X-APPLE-STRUCTURED-LOCATION;VALUE=URI;X-ADDRESS=Olejarna 3\, Gdansk\, 80-84
 3\, Poland;X-APPLE-RADIUS=100;X-TITLE=Bunkier:geo:54.35446,18.65466
END:VEVENT
BEGIN:VTIMEZONE
TZID:Europe/Warsaw
X-LIC-LOCATION:Europe/Warsaw
BEGIN:STANDARD
DTSTART:20181028T020000
TZOFFSETFROM:+0200
TZOFFSETTO:+0100
TZNAME:CET
END:STANDARD
END:VTIMEZONE
END:VCALENDAR