BEGIN:VCALENDAR
VERSION:2.0
PRODID:-//wp-events-plugin.com//7.2.3.1//EN
TZID:Europe/Warsaw
X-WR-TIMEZONE:Europe/Warsaw
BEGIN:VEVENT
UID:11746@night4u.pl
DTSTART;TZID=Europe/Warsaw:20190404T210000
DTEND;TZID=Europe/Warsaw:20190404T210000
DTSTAMP:20190403T193735Z
URL:https://night4u.pl/wydarzenia/budowa-2019/
SUMMARY:BUDOWA 2019
DESCRIPTION:⚠️ HALO HALO ⚠️\n\nWielkimi krokami zbliża się Wielki
  Dzień ‼️ \n\nDzień\, w którym każdy Student Naszego Wydziału poc
 zuje się jak prawdziwy ?‍♂️ Bob Budowniczy. \n\nWszem i wobec jako 
 Wasz ukochany Samorząd\, mamy przyjemność zaprosić Was na najbardziej 
 odjechaną wydziałówkę we Wszechświecie o nazwie...\n\n>> BUDOWA 2019 
ATTACH;FMTTYPE=image/jpeg:https://night4u.pl/wp-content/uploads/2019/04/30
 181_image_56435256_2315360441819327_8373375292894347264_n.jpg
CATEGORIES:zachodniopomorskie
LOCATION:Pinokio Szczecin\, ul. Sikorskiego 29\, Szczecin\, 71-072\, Poland
GEO:53.42229;14.53015
X-APPLE-STRUCTURED-LOCATION;VALUE=URI;X-ADDRESS=ul. Sikorskiego 29\, Szczec
 in\, 71-072\, Poland;X-APPLE-RADIUS=100;X-TITLE=Pinokio Szczecin:geo:53.42
 229,14.53015
END:VEVENT
BEGIN:VTIMEZONE
TZID:Europe/Warsaw
X-LIC-LOCATION:Europe/Warsaw
BEGIN:DAYLIGHT
DTSTART:20190331T030000
TZOFFSETFROM:+0100
TZOFFSETTO:+0200
TZNAME:CEST
END:DAYLIGHT
END:VTIMEZONE
END:VCALENDAR