BEGIN:VCALENDAR
VERSION:2.0
PRODID:-//wp-events-plugin.com//7.2.3.1//EN
TZID:Europe/Warsaw
X-WR-TIMEZONE:Europe/Warsaw
BEGIN:VEVENT
UID:14538@night4u.pl
DTSTART;TZID=Europe/Warsaw:20190510T210000
DTEND;TZID=Europe/Warsaw:20190511T050000
DTSTAMP:20190430T144534Z
URL:https://night4u.pl/wydarzenia/bum-fartuch-party-vol-8/
SUMMARY:BUM Fartuch Party VOL 8
DESCRIPTION:>>>>ENGLISH BELOW
ATTACH;FMTTYPE=image/jpeg:https://night4u.pl/wp-content/uploads/2019/04/36
 159_image_57244775_2762433593772882_741853831133921280_n.jpg
CATEGORIES:podlaskie
LOCATION:Herkulesy klub\, ul. Mickiewicza 2c\, Białystok\, 15-222\, Poland
GEO:53.129396;23.167055
X-APPLE-STRUCTURED-LOCATION;VALUE=URI;X-ADDRESS=ul. Mickiewicza 2c\, Biały
 stok\, 15-222\, Poland;X-APPLE-RADIUS=100;X-TITLE=Herkulesy klub:geo:53.12
 9396,23.167055
END:VEVENT
BEGIN:VTIMEZONE
TZID:Europe/Warsaw
X-LIC-LOCATION:Europe/Warsaw
BEGIN:DAYLIGHT
DTSTART:20190331T030000
TZOFFSETFROM:+0100
TZOFFSETTO:+0200
TZNAME:CEST
END:DAYLIGHT
END:VTIMEZONE
END:VCALENDAR