BEGIN:VCALENDAR
VERSION:2.0
PRODID:-//wp-events-plugin.com//7.2.3.1//EN
TZID:Europe/Warsaw
X-WR-TIMEZONE:Europe/Warsaw
BEGIN:VEVENT
UID:49450@night4u.pl
DTSTART;TZID=Europe/Warsaw:20200307T220000
DTEND;TZID=Europe/Warsaw:20200308T070000
DTSTAMP:20200331T140555Z
URL:https://night4u.pl/wydarzenia/burchino-discomule-chino/
SUMMARY:Burchino: Discomule &amp\; Chino
DESCRIPTION:DiscoMule i Chino - dwaj dumni synowie Kraju Kiełbasków zapra
 szają w sobotni wieczór na degustację smakowitej mielonki z synth\, wav
 e'u\, techno i disco. \n\nNie dla Psa kiełbasa? No to zobaczymy!
ATTACH;FMTTYPE=image/jpeg:https://night4u.pl/wp-content/uploads/2020/03/17
 1445_image_87031446_3081973455155952_971625076707295232_o.jpg
CATEGORIES:małopolskie
LOCATION:Klub Piękny Pies\, Plac Wolnica 9\, Kraków\, 31-060\, Poland
GEO:50.0489;19.94481
X-APPLE-STRUCTURED-LOCATION;VALUE=URI;X-ADDRESS=Plac Wolnica 9\, Kraków\, 
 31-060\, Poland;X-APPLE-RADIUS=100;X-TITLE=Klub Piękny Pies:geo:50.0489,1
 9.94481
END:VEVENT
BEGIN:VTIMEZONE
TZID:Europe/Warsaw
X-LIC-LOCATION:Europe/Warsaw
BEGIN:STANDARD
DTSTART:20191027T020000
TZOFFSETFROM:+0200
TZOFFSETTO:+0100
TZNAME:CET
END:STANDARD
END:VTIMEZONE
END:VCALENDAR