BEGIN:VCALENDAR
VERSION:2.0
PRODID:-//wp-events-plugin.com//7.2.3.1//EN
TZID:Europe/Warsaw
X-WR-TIMEZONE:Europe/Warsaw
BEGIN:VEVENT
UID:40684@night4u.pl
DTSTART;TZID=Europe/Warsaw:20200215T200000
DTEND;TZID=Europe/Warsaw:20200216T020000
DTSTAMP:20200331T150118Z
URL:https://night4u.pl/wydarzenia/burleskowe-walentynki-2/
SUMMARY:Burleskowe Walentynki
DESCRIPTION:Zobaczycie najlepszą światową burleskę siedząc wygodnie pr
 zy stoliku i popijając najsmaczniejsze wegańskie drinki.\n\nWystąpią: 
 \nPepper Sparkles (FIN)\nMiss Mistress\n\nUwaga! Konieczna rezerwacja\, og
 raniczona liczba miejsc!\nbilety na piątek: https://madameq.pl/product/bu
 rleskowe-walentynki-2\nbilety na sobotę: https://madameq.pl/product/burle
 skowe-walentynki-3\nbilety na niedzielę (ze względu\, że to niedziela\,
  show będzie krótsze\, ale wy zobaczycie dokładnie tyle samo numerów b
 urleskowych co w inne dni): https://madameq.pl/product/burleskowe-walentyn
 ki-4\nBilety: 50zł\n\notwarcie drzwi: 20\nstart pokazów: 21\n\ndress cod
 e: dress to impress\n___\nMadame Q jest wyjątkowym miejscem na kulturalne
 j mapie Warszawy. Scena\, wegański cocktail bar\, szkoła burleski\, cent
 rum ciałopozytywności i edukacji równościowej. W burlesce robimy od la
 t. Byłyśmy w tej dziedzinie pierwsze w Polsce. Teraz wreszcie mamy nasze
  własne miejsce!
ATTACH;FMTTYPE=image/jpeg:https://night4u.pl/wp-content/uploads/2020/02/12
 3848_image_78208315_3278152418893483_3029287446580822016_o-3.jpg
CATEGORIES:mazowieckie
LOCATION:Madame Q\, Burdzińskiego 5/24\, Warsaw\, 03-480\, Poland
GEO:52.261783;21.024074
X-APPLE-STRUCTURED-LOCATION;VALUE=URI;X-ADDRESS=Burdzińskiego 5/24\, Warsa
 w\, 03-480\, Poland;X-APPLE-RADIUS=100;X-TITLE=Madame Q:geo:52.261783,21.0
 24074
END:VEVENT
BEGIN:VTIMEZONE
TZID:Europe/Warsaw
X-LIC-LOCATION:Europe/Warsaw
BEGIN:STANDARD
DTSTART:20191027T020000
TZOFFSETFROM:+0200
TZOFFSETTO:+0100
TZNAME:CET
END:STANDARD
END:VTIMEZONE
END:VCALENDAR