BEGIN:VCALENDAR
VERSION:2.0
PRODID:-//wp-events-plugin.com//7.2.3.1//EN
TZID:Europe/Warsaw
X-WR-TIMEZONE:Europe/Warsaw
BEGIN:VEVENT
UID:45043@night4u.pl
DTSTART;TZID=Europe/Warsaw:20200130T203000
DTEND;TZID=Europe/Warsaw:20200130T223000
DTSTAMP:20200331T184214Z
URL:https://night4u.pl/wydarzenia/burlesque-and-boylesque-nerd-night-show/
SUMMARY:Sold Out! Burlesque and Boylesque Nerd Night Show
DESCRIPTION:Show zwariowane\, jeszcze bardziej zabawne niż zwykle. W progr
 amie numery burleskowe i boyleskowe wprost ze świata popkultury\, komiks
 ów\, gier i filmów wyłącznie rozrywkowych. \n\nShow poprowadzi Anushka
  Wojtecka\, która nikt w Polsce potrafi połączyć w konferansjerce kaba
 ret i burleskę. Bawić Was będzie czwórka performerów: Lady Fox\, Nokt
 urna Burlesque oraz Pony Boy Boylesq i Kim Lee. \n\nGwarantujemy śmiech\,
  mnóstwo radości\, relaks w klimatycznym Worku\, największym polskim do
 mu burleski\, gdzie barmani i kelnerzy w lot zgadują Wasze koktajlowe ży
 czenia - nie wstawajcie od stolików\, będą na każde Wasze zawołanie. 
 Bawimy Was od ponad dwóch lat w każdy czwartek\, show jest co tydzień i
  co tydzień inne\, niepowtarzalne!\nZabierajcie przyjaciół\, ukochanego
 \, ukochaną i spędźcie z nami ten wieczór. \nDress code: zalecamy str
 ój wieczorowy\, poczujcie się wyjątkowo\, bosko! ale wciąż komfortowo
 !\n\nNasze show przyciągają gości z całej Polski i nie tylko z Polski\
 , wydarzenia jedyne w swoim rodzaju\, na granicy burleski i kabaretu. Musi
 cie to zobaczyć!\nZapraszamy!\n \nZdjęcie na bannerze: Lady Fox\, fot. E
 milia Lyon Photography\n--------------------------------------\nCocktail B
 ar Worek Kości\, lokal dla Gości 18+	\nul. Bagatela 10\, Warszawa\nOtwar
 cie drzwi godz. 18.30\nStart Show godz. 20.30\nTylko dla osób pełnoletni
 ch.\nZdobądź bilety* 50zł:\nhttps://goout.net/pl/bilety/burlesque-and-b
 oylesque-nerd-night-show-lady-fox+kim-lee+inni/yqag/\n*BILET GWARANTUJE MI
 EJSCE PRZY STOLIKU.\n\nŻeby jednak mieć pewność dobrego miejsca\, osob
 om z zakupionymi już biletami\, polecamy dodatkową opcję rezerwacji mie
 jsca VIP (najlepsze 15 miejsc w lokalu) – rezerwacje przyjmujemy na miej
 scu w lokalu\, przez Messenger Worka Kości oraz telefonicznie 783 666 868
  (telefon czynny w godzinach pracy klubu).\nIlość miejsc do rezerwacji o
 graniczona. \n\nBardzo prosimy o nienagrywanie całości eventu z uwagi na
  ochronę praw autorskich Twórców. \nProsimy o wzajemny szacunek.
ATTACH;FMTTYPE=image/jpeg:https://night4u.pl/wp-content/uploads/2020/01/14
 6054_image_83911366_2715987528481765_311474034783027200_n.jpg
CATEGORIES:mazowieckie
LOCATION:Worek Kości\, ul. Bagatela 10\, Warsaw\, 00-585\, Poland
GEO:52.213769;21.023019
X-APPLE-STRUCTURED-LOCATION;VALUE=URI;X-ADDRESS=ul. Bagatela 10\, Warsaw\, 
 00-585\, Poland;X-APPLE-RADIUS=100;X-TITLE=Worek Kości:geo:52.213769,21.0
 23019
END:VEVENT
BEGIN:VTIMEZONE
TZID:Europe/Warsaw
X-LIC-LOCATION:Europe/Warsaw
BEGIN:STANDARD
DTSTART:20191027T020000
TZOFFSETFROM:+0200
TZOFFSETTO:+0100
TZNAME:CET
END:STANDARD
END:VTIMEZONE
END:VCALENDAR