BEGIN:VCALENDAR
VERSION:2.0
PRODID:-//wp-events-plugin.com//7.2.3.1//EN
TZID:Europe/Warsaw
X-WR-TIMEZONE:Europe/Warsaw
BEGIN:VEVENT
UID:36041@night4u.pl
DTSTART;TZID=Europe/Warsaw:20191116T220000
DTEND;TZID=Europe/Warsaw:20191117T050000
DTSTAMP:20191116T093335Z
URL:https://night4u.pl/wydarzenia/burlesque-night-lista-free-do-2300-3/
SUMMARY:Burlesque Night // Lista Free Do 23:00
DESCRIPTION:HALKO LUDZISKA!\nLISTA FB FREE DO 23:00!\nPODAJ DALEJ!\nPUSH TH
 E BUTTON "WEZMĘ UDZIAŁ" i wejdź za 0 złotówek!\n\nTaka oto sexy sytua
 cja ♥\n\nRed Juliette to czołowa performerka burleski na arenie Polski 
 i Europy. Zdobywczyni pierwszego miejsca w międzynarodowym konkursie "Wor
 ld Burlesque Games" 2014 oraz headlinerka największego festiwalu burleski
  na świecie "London Burlesque Festival" w latach 2016 i 2017.\n\n========
 ===================================\nO parkiety zadbają ze starannością
  :\n\nHeaven: Dominik CRUZE\nHell: DJ NONAME \n\n=========================
 =====================\nStart: 22:00\nWstęp: 15 zł\n\nlista FB FREE do 23
 :00\nlistę zamykamy o 19:00\n=================
ATTACH;FMTTYPE=image/jpeg:https://night4u.pl/wp-content/uploads/2019/11/97
 126_image_75009068_2412113619062469_2568452629839478784_o.jpg
CATEGORIES:pomorskie
LOCATION:HAH Sopot\, Aleja Franciszka Mamuszki 21 (obok wejścia nr 13 na p
 lażę)\, Sopot\, 81-712\, Poland
GEO:54.453133;18.563739
X-APPLE-STRUCTURED-LOCATION;VALUE=URI;X-ADDRESS=Aleja Franciszka Mamuszki 2
 1 (obok wejścia nr 13 na plażę)\, Sopot\, 81-712\, Poland;X-APPLE-RADIU
 S=100;X-TITLE=HAH Sopot:geo:54.453133,18.563739
END:VEVENT
BEGIN:VTIMEZONE
TZID:Europe/Warsaw
X-LIC-LOCATION:Europe/Warsaw
BEGIN:STANDARD
DTSTART:20191027T020000
TZOFFSETFROM:+0200
TZOFFSETTO:+0100
TZNAME:CET
END:STANDARD
END:VTIMEZONE
END:VCALENDAR